BEGIN:VCALENDAR
VERSION:2.0
PRODID:-//jEvents 2.0 for Joomla//EN
CALSCALE:GREGORIAN
METHOD:PUBLISH
BEGIN:VEVENT
UID:529af77cd376bfb41edd6601e1f4be9d
CATEGORIES:2. Bezirk
CREATED:20190110T132448
SUMMARY:Beckenbodentraining
LOCATION:Kind&amp;Kegel Eltern-Kind-Zentrum\, 2.\, Praterstr. 14/8
DESCRIPTION:<h2> </h2><h3>für Erwachsene</h3><p>In den Kursen beschäftigen wir uns dami
 t, den Beckenboden kennenzulernen, wahrzunehmen und zu kräftigen. In jeder 
 Einheit wird auch theoretisches Wissen zum Beckenboden vermittelt und Tipps
  zu einem beckenbodenfreundlichen Alltag gegeben.<br />Ziel ist es, in dies
 en fünf Wochen einen funktionstüchtigen Beckenboden zu erreichen oder den B
 eckenboden weiter zu verbessern.</p><p>Der Kurs ist für Frauen, die sich un
 d ihrem Beckenboden etwas Gutes tun wollen, Erfahrungen aus der Rückbildung
  nach der Schwangerschaft vertiefen möchten, nie Rückbildung gemacht haben 
 oder Beschwerden wie Inkontinenz, Organsenkungen oder Schmerzen beim Geschl
 echtsverkehr haben</p><p>Bitte bequeme Kleidung und dicke Socken zum Kurs m
 itbringen.<br />(Kinder bis zu acht Monaten können bei Bedarf mitgebracht w
 erden!) <br /><br />Freitag, 09:<span class="kleinhoch">30</span>-11:<span 
 class="kleinhoch">00</span>, <br /><strong>Turnus I: 01.02., 08.02., 15.02.
 , 01.03. und 08.03.19</strong><br />Turnus II: 22.03., 29.03., 05.04., 12.0
 4. und 26.04.19<br />Kosten: € 65,- pro Turnus<br />Anmeldung erforderlich!
 </p>
CONTACT:info@kind-und-kegel.at, 01 503 71 88, www.kind-und-kegel.at
X-EXTRAINFO:[preis='6500'][anmeldung='true']
DTSTAMP:20260423T170014
DTSTART:20190208T083000
DTEND:20190208T100000
SEQUENCE:0
TRANSP:OPAQUE
END:VEVENT
END:VCALENDAR