BEGIN:VCALENDAR
VERSION:2.0
PRODID:-//jEvents 2.0 for Joomla//EN
CALSCALE:GREGORIAN
METHOD:PUBLISH
BEGIN:VEVENT
UID:1fc8246fd5e2306cfaeb0bf1727ba0a9
CATEGORIES:2. Bezirk
CREATED:20190110T135515
SUMMARY:Eltern-Kind-Spielgruppe 9-15M Schnuppertermin
LOCATION:Kind&amp;Kegel Eltern-Kind-Zentrum\, 2.\, Praterstr. 14/8
DESCRIPTION:<p>Schnuppertermin Eltern-Kind-Spielgruppe 9-15 Monate</p><p> </p>
CONTACT:info@kind-und-kegel.at, 01 503 71 88, www.kind-und-kegel.at
X-EXTRAINFO:[preis='1300'][anmeldung='true']
DTSTAMP:20260423T170126
DTSTART:20190123T083000
DTEND:20190123T100000
SEQUENCE:0
TRANSP:OPAQUE
END:VEVENT
END:VCALENDAR