BEGIN:VCALENDAR
VERSION:2.0
PRODID:-//jEvents 2.0 for Joomla//EN
CALSCALE:GREGORIAN
METHOD:PUBLISH
BEGIN:VEVENT
UID:f089316f13f0ddc5e75566791f66b0e2
CATEGORIES:2. Bezirk
CREATED:20190110T142927
SUMMARY:Babyturnen III (9-15 Monate) 
LOCATION:Kind&amp;Kegel Eltern-Kind-Zentrum\, 2.\, Praterstr. 14/8
DESCRIPTION: für Babys von 9-15 MonateFür Krabbelbabys und Babys, die ihre erste Schrit
 te wagen. Gemeinsam werden wir singen, turnen und tanzen. Damit schulen wir
  die Motorik und fördern den Spaß an der Bewegung. \nBitte rutschfeste Sock
 en  und Trinken mitbringen.\nDienstag, 09:30 - 10:30\nTurnus I: 19.02., 26.
 02., 05.03., 12.03. und 19.03.19\nTurnus II: 02.04., 09.04., 23.04., 30.04.
  und 07.05.19\nTurnus III: 14.05., 21.05., 28.05., 04.06. und 11.06.19\nKos
 ten: € 65,- pro Turnus, 5 Einheiten\nAnmeldung erforderlich!\n
X-ALT-DESC;FMTTYPE=text/html:<h2> </h2><h3>für Babys von 9-15 Monate</h3><p>Für Krabbelbabys und Babys, 
 die ihre erste Schritte wagen. Gemeinsam werden wir singen, turnen und tanz
 en. Damit schulen wir die Motorik und fördern den Spaß an der Bewegung. <br
  />Bitte rutschfeste Socken  und Trinken mitbringen.</p><p>Dienstag, 09:<sp
 an class="kleinhoch">30</span> - 10:<span class="kleinhoch">30</span><br />
 Turnus I: 19.02., 26.02., 05.03., 12.03. und 19.03.19<br />Turnus II: 02.04
 ., 09.04., 23.04., 30.04. und 07.05.19<br /><strong>Turnus III: 14.05., 21.
 05., 28.05., 04.06. und 11.06.19</strong><br />Kosten: € 65,- pro Turnus, 5
  Einheiten<br />Anmeldung erforderlich!</p>
CONTACT:info@kind-und-kegel.at, 01 503 71 88, www.kind-und-kegel.at
X-EXTRAINFO:[preis='6500'][anmeldung='true']
DTSTAMP:20260423T225310
DTSTART:20190521T073000
DTEND:20190521T083000
SEQUENCE:0
TRANSP:OPAQUE
END:VEVENT
END:VCALENDAR