BEGIN:VCALENDAR
VERSION:2.0
PRODID:-//jEvents 2.0 for Joomla//EN
CALSCALE:GREGORIAN
METHOD:PUBLISH
BEGIN:VEVENT
UID:523c30da428cb1d744b7312e96400dc1
CATEGORIES:17. Bezirk
CREATED:20190111T110230
SUMMARY:MINIMUSIK 2-4J. - Singen, Spielen Musizieren
LOCATION:Polymorph\, Paschinggasse 8\, 1170 Wien
DESCRIPTION:MiniMusik 2-4J. – Singen, Spielen, MusizierenFür Kinder im Alter von 2-4 Ja
 hren in Begleitung eines Erwachsenen\nGratis-Schnupperstunde jederzeit mögl
 ich\nWir singen, spielen, musizieren und bewegen uns in diesem Kurs zu neue
 n und alten Liedern und zu eigens für die MiniMusik komponierten Songs. Es 
 gibt Instrumente zum Mitmachen und wir gestalten Bewegungsspiele und Gruppe
 nspiele mit unterschiedlichen Materialien, bei denen alle Spaß haben können
 .\nDabei wird ganz spielerisch die kindliche Wahrnehmung und Feinmotorik ge
 fördert. Die Kinder lernen ihre Energie in Gesang und Bewegung umzusetzen u
 nd zwischen Stille, rhythmischer Bewegung und Austoben zu koordinieren.\nSi
 ch gemeinsam im Gruppengesang und Gruppenklang geborgen fühlen, sich ausras
 ten und austoben zu können und selber zu gestalten – alleine und miteinande
 r, dies alles sind wertvolle Erfahrungen, die die MiniMusik den Kindern bie
 tet.\nTermine: 25. Februar / 4., 11., 18. März / 1., 8., 29. April / 20., 2
 7. Mai / 3. Juni (17.6.: Ersatztermin)\nInfos unter: www.minimusik.at (http
 ://www.minimusik.at) &amp; www.facebook.com/lisa.farthoferschmid (http://ww
 w.facebook.com/lisa.farthoferschmid)\n
X-ALT-DESC;FMTTYPE=text/html:<h1>MiniMusik 2-4J. – Singen, Spielen, Musizieren</h1><p>Für Kinder im Alte
 r von 2-4 Jahren in Begleitung eines Erwachsenen</p><p>Gratis-Schnupperstun
 de jederzeit möglich</p><p><strong>Wir singen, spielen, musizieren und bewe
 gen uns </strong>in diesem Kurs zu neuen und alten Liedern und zu eigens fü
 r die MiniMusik komponierten Songs. Es gibt Instrumente zum Mitmachen und w
 ir gestalten Bewegungsspiele und Gruppenspiele mit unterschiedlichen Materi
 alien, bei denen alle Spaß haben können.</p><p><strong>Dabei wird ganz spie
 lerisch die kindliche Wahrnehmung und Feinmotorik gefördert</strong>. Die K
 inder lernen ihre Energie in Gesang und Bewegung umzusetzen und zwischen St
 ille, rhythmischer Bewegung und Austoben zu koordinieren.</p><p><strong>Sic
 h gemeinsam im Gruppengesang und Gruppenklang geborgen fühlen</strong>, sic
 h ausrasten und austoben zu können und selber zu gestalten – alleine und mi
 teinander, dies alles sind wertvolle Erfahrungen, die die MiniMusik den Kin
 dern bietet.</p><p>Termine: 25. Februar / 4., 11., 18. März / 1., 8., 29. A
 pril / 20., 27. Mai / 3. Juni (17.6.: Ersatztermin)</p><p>Infos unter: <a h
 ref="http://www.minimusik.at">www.minimusik.at</a> &amp; <a href="http://ww
 w.facebook.com/lisa.farthoferschmid">www.facebook.com/lisa.farthoferschmid<
 /a></p>
CONTACT:Lisa Farthofer-SChmid: MiniMusikWien@gmail.com, 0699-13804247
X-EXTRAINFO:[preis='1500'][anmeldung='true']
DTSTAMP:20260425T105037
DTSTART:20190401T135000
DTEND:20190401T144000
SEQUENCE:0
TRANSP:OPAQUE
END:VEVENT
END:VCALENDAR