BEGIN:VCALENDAR
VERSION:2.0
PRODID:-//jEvents 2.0 for Joomla//EN
CALSCALE:GREGORIAN
METHOD:PUBLISH
BEGIN:VEVENT
UID:f00e1169982baa4ee44be0d8fba39b1a
CATEGORIES:17. Bezirk
CREATED:19700101T010000
SUMMARY:MINIMUSIK 2-4J. - Singen, Spielen, Musizieren
LOCATION:Polymorph\, Paschinggasse 8\, 1170 Wien
DESCRIPTION:MiniMusik 2-4J. – Singen, Spielen, MusizierenFür Kinder im Alter von 2-4 Ja
 hren in Begleitung eines Erwachsenen\nFebruar-Juni 2019, Einstieg jederzeit
  möglich (Gratis-Schnupperstunde)\nWir singen, spielen, musizieren und bewe
 gen uns in diesem Kurs zu neuen und alten Liedern und zu eigens für die Min
 iMusik komponierten Songs. Es gibt Instrumente zum Mitmachen und wir gestal
 ten Bewegungsspiele und Gruppenspiele mit unterschiedlichen Materialien, be
 i denen alle Spaß haben können.\nDabei wird ganz spielerisch die kindliche 
 Wahrnehmung und Feinmotorik gefördert. Die Kinder lernen ihre Energie in Ge
 sang und Bewegung umzusetzen und zwischen Stille, rhythmischer Bewegung und
  Austoben zu koordinieren.\nSich gemeinsam im Gruppengesang und Gruppenklan
 g geborgen fühlen, sich ausrasten und austoben zu können und selber zu gest
 alten – alleine und miteinander, dies alles sind wertvolle Erfahrungen, die
  die MiniMusik den Kindern bietet.\n10 Termine: 25. Februar / 4., 11., 18. 
 März / 1., 8., 29. April / 20., 27. Mai / 3. Juni (17.6.: Ersatztermin)\nIn
 fos unter: www.minimusik.at (http://www.minimusik.at) &amp; www.facebook.co
 m/lisa.farthoferschmid (http://www.facebook.com/lisa.farthoferschmid)\n
X-ALT-DESC;FMTTYPE=text/html:<h1>MiniMusik 2-4J. – Singen, Spielen, Musizieren</h1><p>Für Kinder im Alte
 r von 2-4 Jahren in Begleitung eines Erwachsenen</p><p>Februar-Juni 2019, E
 instieg jederzeit möglich (Gratis-Schnupperstunde)</p><p><strong>Wir singen
 , spielen, musizieren und bewegen uns </strong>in diesem Kurs zu neuen und 
 alten Liedern und zu eigens für die MiniMusik komponierten Songs. Es gibt I
 nstrumente zum Mitmachen und wir gestalten Bewegungsspiele und Gruppenspiel
 e mit unterschiedlichen Materialien, bei denen alle Spaß haben können.</p><
 p><strong>Dabei wird ganz spielerisch die kindliche Wahrnehmung und Feinmot
 orik gefördert</strong>. Die Kinder lernen ihre Energie in Gesang und Beweg
 ung umzusetzen und zwischen Stille, rhythmischer Bewegung und Austoben zu k
 oordinieren.</p><p><strong>Sich gemeinsam im Gruppengesang und Gruppenklang
  geborgen fühlen</strong>, sich ausrasten und austoben zu können und selber
  zu gestalten – alleine und miteinander, dies alles sind wertvolle Erfahrun
 gen, die die MiniMusik den Kindern bietet.</p><p>10 Termine: 25. Februar / 
 4., 11., 18. März / 1., 8., 29. April / 20., 27. Mai / 3. Juni (17.6.: Ersa
 tztermin)</p><p>Infos unter: <a href="http://www.minimusik.at">www.minimusi
 k.at</a> &amp; <a href="http://www.facebook.com/lisa.farthoferschmid">www.f
 acebook.com/lisa.farthoferschmid</a></p>
CONTACT:Lisa Farthofer-Schmid: MiniMusikWien@gmail.com, 0699-13804247
X-EXTRAINFO:[preis='1500'][anmeldung='true']
DTSTAMP:20260424T164711
DTSTART:20190520T135000
DTEND:20190520T144000
SEQUENCE:0
RRULE:FREQ=WEEKLY;UNTIL=20190605T000000Z;INTERVAL=1;BYDAY=MO
TRANSP:OPAQUE
END:VEVENT
END:VCALENDAR