BEGIN:VCALENDAR
VERSION:2.0
PRODID:-//jEvents 2.0 for Joomla//EN
CALSCALE:GREGORIAN
METHOD:PUBLISH
BEGIN:VEVENT
UID:77ab23ff795900f30934aa411f5208a2
CATEGORIES:17. Bezirk
CREATED:20190111T110927
SUMMARY:MINIMUSIK 0-2J. - Singen, Spielen, Musizieren
LOCATION:Polymorph\, Paschinggasse 8\, 1170 Wien
DESCRIPTION:MiniMusik 0-2 Jahre: Singen, Spielen &amp; MusizierenFür Babys und Kleinkin
 der im Alter von 0-2 Jahren in Begleitung eines Erwachsenen\nFebruar-Juni 2
 019, Einstieg jederzeit möglich (Gratis-Schnupperstunde)\nMacht es Ihnen un
 d Ihrem Kind Spaß, zusammen zu singen, zu plaudern und zu brabbeln, zu sche
 rzen und sich zu bewegen? Hört Ihr Kind gerne Ihre Stimme, beruhigen Sie es
  manchmal sanft mit einer kleinen Melodie oder inbrünstig mit einem ganzen 
 Repertoire an Kinderliedern? In der MiniMusik1 sind Sie genau richtig, egal
  wieviel musikalische Erfahrung Sie haben.\nWir singen alte und neue Kinder
 lieder, machen lustige Bewegungsspiele, die nicht nur Ihr Kind zum Lachen b
 ringen, und fördern ganz spielerisch die feinmotorische, soziale und sprach
 liche Entwicklung Ihres Kindes.\nInfos unter: www.minimusik.at (http://www.
 minimusik.at) &amp; www.facebook.com/lisa.farthoferschmid (http://www.faceb
 ook.com/lisa.farthoferschmid)\n
X-ALT-DESC;FMTTYPE=text/html:<h1>MiniMusik 0-2 Jahre: Singen, Spielen &amp; Musizieren</h1><p>Für Babys 
 und Kleinkinder im Alter von 0-2 Jahren in Begleitung eines Erwachsenen</p>
 <p>Februar-Juni 2019, Einstieg jederzeit möglich (Gratis-Schnupperstunde)</
 p><p><strong>Macht es Ihnen und Ihrem Kind Spaß, zusammen zu singen, zu pla
 udern und zu brabbeln, zu scherzen und sich zu bewegen?</strong> Hört Ihr K
 ind gerne Ihre Stimme, beruhigen Sie es manchmal sanft mit einer kleinen Me
 lodie oder inbrünstig mit einem ganzen Repertoire an Kinderliedern? In der 
 MiniMusik1 sind Sie genau richtig, egal wieviel musikalische Erfahrung Sie 
 haben.</p><p><strong>Wir singen alte und neue Kinderlieder, machen lustige 
 Bewegungsspiele, d</strong>ie nicht nur Ihr Kind zum Lachen bringen, und fö
 rdern ganz spielerisch die feinmotorische, soziale und sprachliche Entwickl
 ung Ihres Kindes.</p><p>Infos unter: <a href="http://www.minimusik.at">www.
 minimusik.at</a> &amp; <a href="http://www.facebook.com/lisa.farthoferschmi
 d">www.facebook.com/lisa.farthoferschmid</a></p>
CONTACT:Lisa Farthofer-Schmid: MiniMusikWien@gmail.com, Tel.: 0699-13804247
X-EXTRAINFO:[preis='1500'][anmeldung='true']
DTSTAMP:20260425T105037
DTSTART:20190401T124000
DTEND:20190401T133000
SEQUENCE:0
TRANSP:OPAQUE
END:VEVENT
END:VCALENDAR