BEGIN:VCALENDAR
VERSION:2.0
PRODID:-//jEvents 2.0 for Joomla//EN
CALSCALE:GREGORIAN
METHOD:PUBLISH
BEGIN:VEVENT
UID:38959de097462e1e4b26549688e2c447
CATEGORIES:17. Bezirk
CREATED:19700101T010000
SUMMARY:MINIMUSIK 0-2J. - Singen, Spielen, Musizieren
LOCATION:Polymorph\, Paschinggasse 8\, 1170 Wien
DESCRIPTION:<h1>MiniMusik 0-2 Jahre: Singen, Spielen &amp; Musizieren</h1><p>Für Babys 
 und Kleinkinder im Alter von 0-2 Jahren in Begleitung eines Erwachsenen</p>
 <p>Februar-Juni 2019, Einstieg jederzeit möglich (Gratis-Schnupperstunde)</
 p><p><strong>Macht es Ihnen und Ihrem Kind Spaß, zusammen zu singen, zu pla
 udern und zu brabbeln, zu scherzen und sich zu bewegen?</strong> Hört Ihr K
 ind gerne Ihre Stimme, beruhigen Sie es manchmal sanft mit einer kleinen Me
 lodie oder inbrünstig mit einem ganzen Repertoire an Kinderliedern? In der 
 MiniMusik1 sind Sie genau richtig, egal wieviel musikalische Erfahrung Sie 
 haben.</p><p><strong>Wir singen alte und neue Kinderlieder, machen lustige 
 Bewegungsspiele, d</strong>ie nicht nur Ihr Kind zum Lachen bringen, und fö
 rdern ganz spielerisch die feinmotorische, soziale und sprachliche Entwickl
 ung Ihres Kindes.</p><p>Infos unter: <a href="http://www.minimusik.at">www.
 minimusik.at</a> &amp; <a href="http://www.facebook.com/lisa.farthoferschmi
 d">www.facebook.com/lisa.farthoferschmid</a></p>
CONTACT:Lisa Farthofer-Schmid: MiniMusikWien@gmail.com, Tel.: 0699-13804247
X-EXTRAINFO:[preis='1500'][anmeldung='true']
DTSTAMP:20260424T165010
DTSTART:20190520T124000
DTEND:20190520T133000
SEQUENCE:0
RRULE:FREQ=WEEKLY;UNTIL=20190605T000000Z;INTERVAL=1;BYDAY=MO
TRANSP:OPAQUE
END:VEVENT
END:VCALENDAR