BEGIN:VCALENDAR
VERSION:2.0
PRODID:-//jEvents 2.0 for Joomla//EN
CALSCALE:GREGORIAN
METHOD:PUBLISH
BEGIN:VEVENT
UID:b0a9131f71b14cc8ae036d29c3321ca3
CATEGORIES:16. Bezirk
CREATED:20190111T113123
SUMMARY:MINIMUSIK 0-4J. Schnupperstunde
LOCATION:Arnethgasse 11\, Stiege 11: verglaster Gemeinschaftsraum bei Stiege 11 (in 
 der Mitte der Anlage beim großen Spielplatz)
DESCRIPTION:MiniMusik ist heute in der Garten-Siedlung Ottakring zu Gast im Gemeinschaf
 tsraum beim großen Spielplatz (Stiege 11)!\nFür Kinder von 0-4 in Begleitun
 g eines Erwachsenen\nWir singen, spielen, musizieren und bewegen uns zu neu
 en und alten Liedern und zu eigens für die MiniMusik komponierten Songs. Es
  gibt Instrumente zum Mitmachen und wir gestalten Bewegungsspiele und Grupp
 enspiele mit unterschiedlichen Materialien, bei denen alle Spaß haben könne
 n.\nDabei wird ganz spielerisch die kindliche Wahrnehmung und Feinmotorik g
 efördert. Die Kinder lernen ihre Energie in Gesang und Bewegung umzusetzen 
 und zwischen Stille, rhythmischer Bewegung und Austoben zu koordinieren.\nS
 ich gemeinsam im Gruppengesang und Gruppenklang geborgen fühlen, sich ausra
 sten und austoben zu können und selber zu gestalten – alleine und miteinand
 er, dies alles sind wertvolle Erfahrungen, die die MiniMusik den Kindern bi
 etet.\nVon Februar - Juni 2019 gibt es einen Mini-Musik-Kurs für 0-2Jährige
  und einen Kurs für 2-4Jährige, immer montags im 17. Bezirk im Institut Pol
 ymorph.\nInfos unter: www.minimusik.at (http://www.minimusik.at) &amp; www.
 facebook.com/lisa.farthoferschmid (http://www.facebook.com/lisa.farthofersc
 hmid)\n
X-ALT-DESC;FMTTYPE=text/html:<p>MiniMusik ist heute in der Garten-Siedlung Ottakring zu Gast im Gemeinsc
 haftsraum beim großen Spielplatz (Stiege 11)!</p><p>Für Kinder von 0-4 in B
 egleitung eines Erwachsenen</p><p><strong>Wir singen, spielen, musizieren u
 nd bewegen uns </strong>zu neuen und alten Liedern und zu eigens für die Mi
 niMusik komponierten Songs. Es gibt Instrumente zum Mitmachen und wir gesta
 lten Bewegungsspiele und Gruppenspiele mit unterschiedlichen Materialien, b
 ei denen alle Spaß haben können.</p><p><strong>Dabei wird ganz spielerisch 
 die kindliche Wahrnehmung und Feinmotorik gefördert</strong>. Die Kinder le
 rnen ihre Energie in Gesang und Bewegung umzusetzen und zwischen Stille, rh
 ythmischer Bewegung und Austoben zu koordinieren.</p><p><strong>Sich gemein
 sam im Gruppengesang und Gruppenklang geborgen fühlen</strong>, sich ausras
 ten und austoben zu können und selber zu gestalten – alleine und miteinande
 r, dies alles sind wertvolle Erfahrungen, die die MiniMusik den Kindern bie
 tet.</p><p>Von Februar - Juni 2019 gibt es einen Mini-Musik-Kurs für 0-2Jäh
 rige und einen Kurs für 2-4Jährige, immer montags im 17. Bezirk im Institut
  Polymorph.</p><p>Infos unter: <a href="http://www.minimusik.at">www.minimu
 sik.at</a> &amp; <a href="http://www.facebook.com/lisa.farthoferschmid">www
 .facebook.com/lisa.farthoferschmid</a></p>
CONTACT:Lisa Farthofer-Schmid: MiniMusikWien@gmail.com, 0699-13804247
X-EXTRAINFO:[preis='000'][anmeldung='true']
DTSTAMP:20260425T170349
DTSTART:20190123T090000
DTEND:20190123T100000
SEQUENCE:0
TRANSP:OPAQUE
END:VEVENT
END:VCALENDAR