BEGIN:VCALENDAR
VERSION:2.0
PRODID:-//jEvents 2.0 for Joomla//EN
CALSCALE:GREGORIAN
METHOD:PUBLISH
BEGIN:VEVENT
UID:6faee8313c6bf155071873471cb44d4e
CATEGORIES:9. Bezirk
CREATED:20190113T224432
SUMMARY:Mawiba MAMA BABY TANZ Schnupperstunde
LOCATION:QUER-FIT-EIN\, im 9. Bezirk\, Hörlgasse 4/3
DESCRIPTION:Liebe Babymamas, liebe Babypapas, liebe Babys!\n\nMAWIBA ist ein Tanzkonzep
 t für Mamas und ihre Babys, ein sanfter Einstieg um nach der Geburt wieder 
 aktiv zu werden. Während die Mamas zu beckenbodenstärkenden Choreografien t
 anzen und dabei ihre Haltung und Fitness verbessern, kuscheln sich die Baby
 s in einer Tragehilfe an sie. Gemeinsam mit einem erfahrenen Expertenteam e
 ntwickelt, bietet MAWIBA spezielle Choreografien zur Beckenbodenstärkung un
 d Verbesserung der Körperhaltung.\n\n\nWO? QUER-FIT-EIN, im 9. Bezirk, Hörl
 gasse 4/3\n\nWANN? Um 15:15Uhr tanzen wir los.\nAb 15:00 Uhr ist das Studio
  besetzt. Wir tanzen eine Stunde und anschließend gehört der Raum 30 min un
 s, um zu plaudern.\n\nALTER DER BABYS - nach dem Wochenbett darf die Mama m
 it Ihrem Baby starten, solange wie sie es tragen möchte!\n\nKURSKOSTEN: \n€
  10,00 Schnupperstunde (Eure erste Mawiba Stunde) \n€ 13,00 Einzelstunde \n
 € 50,00 4 Wochenkurs\nAlle Jänner &amp; Februar Stunden zusammen Special - 
 70€\n\nAlle Termine für Jänner und Februar 2019:\nIm Jänner gibt es zwei Sc
 hnupper- bzw Einzelstunden. \nMi. 16.01 „Uptown Funk“, Bruno Mars\nMi. 23.0
 1 „Can‘t stop the feeling“, Justin Timberlake \nDer erste 4 Wochenkurs star
 tet dann im Februar: \nMi. 06., 13., 20. &amp; 27. Februar 2019\nDie Choreo
 s dafür suchen wir gerne gemeinsam aus dem Mawiba Repertoire aus.\n\nFragen
  und Anmeldungen unter \nmawiba@melaniewaldbauer.com\n0664/75522859 oder\nw
 ww.mawiba.net (https://l.facebook.com/l.php?u=http%3A%2F%2Fwww.mawiba.net%2
 F%3Ffbclid%3DIwAR34Gnwr-cJz_xQ6EO8dopjHCIUAEz7hq60FyKh5LjDcB4B7omQvyEeq5no&
 amp;h=AT3NeJCFWYQcfytA-SmQDzhEWY77m3afJFPxdlmyt054C-WywjuUFlxgDN9tdHS6-B81c
 xcMZY4nmFnjeD-xkfTkdhj6Ptyoeathmcx1CnnjWHCdiKgCcWi1wuCbUdzvq44iSg0) (Kurse 
 für 1090 aussuchen).\n\n\nIch freue auf Euch!\nBis dann,\nEure\nMela\n
X-ALT-DESC;FMTTYPE=text/html:<p style="text-align: center;"><strong>Liebe Babymamas, liebe Babypapas, li
 ebe Babys!</strong><br /><br />MAWIBA ist ein Tanzkonzept für Mamas und ihr
 e Babys, ein sanfter Einstieg um nach der Geburt wieder aktiv zu werden. Wä
 hrend die Mamas zu beckenbodenstärkenden Choreografien tanzen und dabei ihr
 e Haltung und Fitness verbessern, kuscheln sich die Babys in einer Tragehil
 fe an sie. Gemeinsam mit einem erfahrenen Expertenteam entwickelt, bietet M
 AWIBA spezielle Choreografien zur Beckenbodenstärkung und Verbesserung der 
 Körperhaltung.<br /><br /><br /><strong>WO? QUER-FIT-EIN, im 9. Bezirk, Hör
 lgasse 4/3</strong><br /><br />WANN? <strong>Um 15:15Uhr tanzen wir los.</s
 trong><br />Ab 15:00 Uhr ist das Studio besetzt. Wir tanzen eine Stunde und
  anschließend gehört der Raum 30 min uns, um zu plaudern.<br /><br />ALTER 
 DER BABYS - nach dem Wochenbett darf die Mama mit Ihrem Baby starten, solan
 ge wie sie es tragen möchte!<br /><br /><strong>KURSKOSTEN:</strong> <br />
 € 10,00 Schnupperstunde (Eure erste Mawiba Stunde) <br />€ 13,00 Einzelstun
 de <br />€ 50,00 4 Wochenkurs<br />Alle Jänner &amp; Februar Stunden zusamm
 en Special - 70€<br /><br />Alle Termine für Jänner und Februar 2019:<br />
 Im Jänner gibt es zwei Schnupper- bzw Einzelstunden. <br />Mi. 16.01 „Uptow
 n Funk“, Bruno Mars<br />Mi. 23.01 „Can‘t stop the feeling“, Justin Timberl
 ake <br />Der erste 4 Wochenkurs startet dann im Februar: <br />Mi. 06., 13
 ., 20. &amp; 27. Februar 2019<br />Die Choreos dafür suchen wir gerne gemei
 nsam aus dem Mawiba Repertoire aus.<br /><br /><strong>Fragen und Anmeldung
 en unter </strong><br /><strong>mawiba@melaniewaldbauer.com</strong><br /><
 strong>0664/75522859 oder</strong><br /><strong><a href="https://l.facebook
 .com/l.php?u=http%3A%2F%2Fwww.mawiba.net%2F%3Ffbclid%3DIwAR34Gnwr-cJz_xQ6EO
 8dopjHCIUAEz7hq60FyKh5LjDcB4B7omQvyEeq5no&amp;h=AT3NeJCFWYQcfytA-SmQDzhEWY7
 7m3afJFPxdlmyt054C-WywjuUFlxgDN9tdHS6-B81cxcMZY4nmFnjeD-xkfTkdhj6Ptyoeathmc
 x1CnnjWHCdiKgCcWi1wuCbUdzvq44iSg0" target="_blank" rel="nofollow noopener n
 oreferrer" data-lynx-mode="hover">www.mawiba.net</a> (Kurse für 1090 aussuc
 hen).</strong><br /><br /><br />Ich freue auf Euch!<br />Bis dann,<br />Eur
 e<br />Mela</p>
CONTACT:mawiba@melaniewaldbauer.com, www.mawiba.net , 0664/75522859, 
X-EXTRAINFO:[preis='1000'][anmeldung='true']
DTSTAMP:20260425T153758
DTSTART:20190116T141500
DTEND:20190116T160000
SEQUENCE:0
TRANSP:OPAQUE
END:VEVENT
END:VCALENDAR