BEGIN:VCALENDAR
VERSION:2.0
PRODID:-//jEvents 2.0 for Joomla//EN
CALSCALE:GREGORIAN
METHOD:PUBLISH
BEGIN:VEVENT
UID:b2662274ea380d7401d0ac3a1b4dcd7e
CATEGORIES:9. Bezirk
CREATED:20190113T224633
SUMMARY:Mawiba MAMA BABY TANZ Schnupperstunde
LOCATION:QUER-FIT-EIN\, im 9. Bezirk\, Hörlgasse 4/3
DESCRIPTION:<p style="text-align: center;"><strong>Liebe Babymamas, liebe Babypapas, li
 ebe Babys!</strong><br /><br />MAWIBA ist ein Tanzkonzept für Mamas und ihr
 e Babys, ein sanfter Einstieg um nach der Geburt wieder aktiv zu werden. Wä
 hrend die Mamas zu beckenbodenstärkenden Choreografien tanzen und dabei ihr
 e Haltung und Fitness verbessern, kuscheln sich die Babys in einer Tragehil
 fe an sie. Gemeinsam mit einem erfahrenen Expertenteam entwickelt, bietet M
 AWIBA spezielle Choreografien zur Beckenbodenstärkung und Verbesserung der 
 Körperhaltung.<br /><br /><br /><strong>WO? QUER-FIT-EIN, im 9. Bezirk, Hör
 lgasse 4/3</strong><br /><br />WANN? <strong>Um 15:15Uhr tanzen wir los.</s
 trong><br />Ab 15:00 Uhr ist das Studio besetzt. Wir tanzen eine Stunde und
  anschließend gehört der Raum 30 min uns, um zu plaudern.<br /><br />ALTER 
 DER BABYS - nach dem Wochenbett darf die Mama mit Ihrem Baby starten, solan
 ge wie sie es tragen möchte!<br /><br /><strong>KURSKOSTEN:</strong> <br />
 € 10,00 Schnupperstunde (Eure erste Mawiba Stunde) <br />€ 13,00 Einzelstun
 de <br />€ 50,00 4 Wochenkurs<br />Alle Jänner &amp; Februar Stunden zusamm
 en Special - 70€<br /><br />Alle Termine für Jänner und Februar 2019:<br />
 Im Jänner gibt es zwei Schnupper- bzw Einzelstunden. <br />Mi. 16.01 „Uptow
 n Funk“, Bruno Mars<br />Mi. 23.01 „Can‘t stop the feeling“, Justin Timberl
 ake <br />Der erste 4 Wochenkurs startet dann im Februar: <br />Mi. 06., 13
 ., 20. &amp; 27. Februar 2019<br />Die Choreos dafür suchen wir gerne gemei
 nsam aus dem Mawiba Repertoire aus.<br /><br /><strong>Fragen und Anmeldung
 en unter </strong><br /><strong>mawiba@melaniewaldbauer.com</strong><br /><
 strong>0664/75522859 oder</strong><br /><strong><a href="https://l.facebook
 .com/l.php?u=http%3A%2F%2Fwww.mawiba.net%2F%3Ffbclid%3DIwAR34Gnwr-cJz_xQ6EO
 8dopjHCIUAEz7hq60FyKh5LjDcB4B7omQvyEeq5no&amp;h=AT3NeJCFWYQcfytA-SmQDzhEWY7
 7m3afJFPxdlmyt054C-WywjuUFlxgDN9tdHS6-B81cxcMZY4nmFnjeD-xkfTkdhj6Ptyoeathmc
 x1CnnjWHCdiKgCcWi1wuCbUdzvq44iSg0" target="_blank" rel="nofollow noopener n
 oreferrer" data-lynx-mode="hover">www.mawiba.net</a> (Kurse für 1090 aussuc
 hen).</strong><br /><br /><br />Ich freue auf Euch!<br />Bis dann,<br />Eur
 e<br />Mela</p>
CONTACT:mawiba@melaniewaldbauer.com, www.mawiba.net , 0664/75522859, 
X-EXTRAINFO:[preis='1000'][anmeldung='true']
DTSTAMP:20260425T135002
DTSTART:20190123T141500
DTEND:20190123T160000
SEQUENCE:0
TRANSP:OPAQUE
END:VEVENT
END:VCALENDAR