BEGIN:VCALENDAR
VERSION:2.0
PRODID:-//jEvents 2.0 for Joomla//EN
CALSCALE:GREGORIAN
METHOD:PUBLISH
BEGIN:VEVENT
UID:0e12a2222dcc1fc58124d0d58e96bdd0
CATEGORIES:12. Bezirk
CREATED:20190115T070927
SUMMARY:Kinder Musikstunde 2-5 J.
LOCATION:2-Klang Studio Wien
DESCRIPTION:Eine Schnuppermöglichkeit für alle Musikmäuse und Musikbären im 2-Klang Stu
 dio Wien! \nWir freuen uns auf eine bunte Musikreise mit Dir!\nwww.2-Klang.
 at (http://www.2-Klang.at)\nfacebook: 2-Klang Studio WIEN\nFB Musikgruppe: 
 weil Musik das Leben bunter macht!\n
X-ALT-DESC;FMTTYPE=text/html:<p>Eine Schnuppermöglichkeit für alle Musikmäuse und Musikbären im 2-Klang 
 Studio Wien! </p><p>Wir freuen uns auf eine bunte Musikreise mit Dir!</p><p
 ><a href="http://www.2-Klang.at">www.2-Klang.at</a></p><p>facebook: 2-Klang
  Studio WIEN</p><p>FB Musikgruppe: weil Musik das Leben bunter macht!</p>
CONTACT:studio@2-Klang.at
X-EXTRAINFO:[preis='1500'][anmeldung='true']
DTSTAMP:20260425T121722
DTSTART:20190219T150000
DTEND:20190219T160000
SEQUENCE:0
TRANSP:OPAQUE
END:VEVENT
END:VCALENDAR