BEGIN:VCALENDAR
VERSION:2.0
PRODID:-//jEvents 2.0 for Joomla//EN
CALSCALE:GREGORIAN
METHOD:PUBLISH
BEGIN:VEVENT
UID:cb1ce6d2956b3e69b48e0e4d2b67800a
CATEGORIES:12. Bezirk
CREATED:19700101T010000
SUMMARY:MUSIKBÄREN 3-5J.
LOCATION:2-Klang Studio WIEN
DESCRIPTION:Bunte Musikstunden zum Ausprobieren für alle Musikbären!\nGehe mit dem Musi
 kbären auf eine Reise und tauche in die Welt der Musik und Klänge ein!\n4x5
 0min.\n9.4., 30.4., 7.5., 14.5.\nWir freuen uns auf Dich!\nJudith und der M
 usikbär :-)\nwww.2-Klang.at (http://www.2-Klang.at)\nfacebook: 2-Klang Stud
 io WIEN\nFB Gruppe: weil Musik das Leben bunter macht!\n
X-ALT-DESC;FMTTYPE=text/html:<p>Bunte Musikstunden zum Ausprobieren für alle Musikbären!</p><p>Gehe mit 
 dem Musikbären auf eine Reise und tauche in die Welt der Musik und Klänge e
 in!</p><p>4x50min.</p><p>9.4., 30.4., 7.5., 14.5.</p><p>Wir freuen uns auf 
 Dich!</p><p>Judith und der Musikbär :-)</p><p><a href="http://www.2-Klang.a
 t">www.2-Klang.at</a></p><p>facebook: 2-Klang Studio WIEN</p><p>FB Gruppe: 
 weil Musik das Leben bunter macht!</p>
CONTACT:studio@2-Klang.at
X-EXTRAINFO:[preis='6000'][anmeldung='true']
DTSTAMP:20260425T133652
DTSTART:20190409T130000
DTEND:20190409T135000
SEQUENCE:0
RRULE:FREQ=WEEKLY;UNTIL=20190515T000000Z;INTERVAL=1;BYDAY=TU
TRANSP:OPAQUE
END:VEVENT
END:VCALENDAR