BEGIN:VCALENDAR
VERSION:2.0
PRODID:-//jEvents 2.0 for Joomla//EN
CALSCALE:GREGORIAN
METHOD:PUBLISH
BEGIN:VEVENT
UID:60651b180c76d6da0cdb971a8f1e8142
CATEGORIES:6. Bezirk
CREATED:20190115T095316
SUMMARY:Wochenbett & mehr.. 
LOCATION:Biolino Institut\, Sandwirtgasse 13/12 1060 Wien 
DESCRIPTION:\nDie optimale Ergänzung zum GeburtsvorbereitungskursAlles über das Wochenb
 ett &amp; die erste Zeit mit Ihrem Baby!\n "Erwartungen, Herausforderungen 
 der werdenden Eltern bedürfnisorientiert und authentisch begleiten!" \nDie 
 wertvollsten Informationen über das Wochenbett &amp; mehr habe ich durch me
 ine langjährige Tätigkeit zusammengefasst und möchte Ihnen diese im Rahmen 
 eines Vortrags im Cafe Plus weitergeben.\nDie ersten Tage nach der Geburt, 
 sind eine sehr intensive Zeit. Es können in dieser ganz viele Fragen entste
 hen, für die Sie hier Antworten und Begleitung findest.\nSeit vielen Jahren
  begleite ich Familien vor und nach der Geburt ihres Kindes in meinem Arbei
 tsbereich auf der Wochenbettstation und anschließend in meiner Gesundheits-
  und Pflegepraxis.\nMeine Erkenntnisse aus meiner Tätigkeit zeigen mir die 
 Wichtigkeit einer optimalen Information und Begleitung rund um das Wochenbe
 tt, sowie in den ersten Tagen zu Hause.\nViele Fragen tauchen auf, wie sich
  die junge Familie die erste Zeit nach der Geburt, die meist besonders inte
 nsiv ist, so angenehm wie möglich gestalten kann. \nInformation &amp; Anmel
 dung: www.natural-care.at  (http://www.natural-care.at)\nWANN &amp; WO: \n0
 1.02.2019 von 10:00 bis 11:30 \nBIOLINO Institut (https://www.biolino.at/)\
 nSandwirtgasse 13/12 \n1060 Wien \n\nKosten: 20 € pro Person \n\nAnmeldung 
 erforderlich, da begrenzte TeilnehmerInnenanzahl\n
X-ALT-DESC;FMTTYPE=text/html:<p></p><h1><strong>Die optimale Ergänzung zum Geburtsvorbereitungskurs</str
 ong></h1><p><strong>Alles über das Wochenbett &amp; die erste Zeit mit Ihre
 m Baby!</strong></p><p><em> "Erwartungen, Herausforderungen der werdenden E
 ltern bedürfnisorientiert und authentisch begleiten!" </em></p><p>Die wertv
 ollsten Informationen über das Wochenbett &amp; mehr habe ich durch meine l
 angjährige Tätigkeit zusammengefasst und möchte Ihnen diese im Rahmen eines
  Vortrags im Cafe Plus weitergeben.</p><p>Die ersten Tage nach der Geburt, 
 sind eine sehr intensive Zeit. Es können in dieser ganz viele Fragen entste
 hen, für die Sie hier Antworten und Begleitung findest.</p><p>Seit vielen J
 ahren begleite ich Familien vor und nach der Geburt ihres Kindes in meinem 
 Arbeitsbereich auf der Wochenbettstation und anschließend in meiner Gesundh
 eits- und Pflegepraxis.</p><p>Meine Erkenntnisse aus meiner Tätigkeit zeige
 n mir die Wichtigkeit einer optimalen Information und Begleitung rund um da
 s Wochenbett, sowie in den ersten Tagen zu Hause.<br /><span style="font-si
 ze: 12.16px;">Viele Fragen tauchen auf, wie sich die junge Familie die erst
 e Zeit nach der Geburt, die meist besonders intensiv ist, so angenehm wie m
 öglich gestalten kann. </span></p><p><span style="font-size: 12.16px;">Info
 rmation &amp; Anmeldung: <a href="http://www.natural-care.at">www.natural-c
 are.at </a></span></p><p><span style="font-size: 12.16px;">WANN &amp; WO: <
 /span></p><p><span style="font-size: 12.16px;">01.02.2019 von 10:00 bis 11:
 30 </span></p><p><span style="font-size: 12.16px;"><a href="https://www.bio
 lino.at/">BIOLINO Institut</a></span></p><p><span style="font-size: 12.16px
 ;">Sandwirtgasse 13/12 <br />1060 Wien </span></p><p><span style="font-size
 : 12.16px;"><br />Kosten: 20 € pro Person <br /></span></p><p><span style="
 font-size: 12.16px;">Anmeldung erforderlich, da begrenzte TeilnehmerInnenan
 zahl</span></p>
CONTACT:www.natural-care.at
X-EXTRAINFO:[preis='2000'][anmeldung='true']
DTSTAMP:20260423T194944
DTSTART:20190201T090000
DTEND:20190201T103000
SEQUENCE:0
TRANSP:OPAQUE
END:VEVENT
END:VCALENDAR