BEGIN:VCALENDAR
VERSION:2.0
PRODID:-//jEvents 2.0 for Joomla//EN
CALSCALE:GREGORIAN
METHOD:PUBLISH
BEGIN:VEVENT
UID:70b5bf6088c2c269b6da387265531c30
CATEGORIES:6. Bezirk
CREATED:20190115T165619
SUMMARY:Faschingsbasteln (1-3 Jahre)
LOCATION:Sandwirtgasse 13/12\, 1060 wien
DESCRIPTION:<div id="cc-m-11505340397" class="j-module n j-textWithImage "><div><div id
 ="cc-m-textwithimage-11505340397" class="cc-m-textwithimage-inline-rte" dat
 a-name="text" data-action="text"><p><span style="text-decoration: underline
 ;"><strong>Faschingsbasteln</strong></span></p><p>In der Faschingszeit wird
 s bunt. Komm zum gemeinsamen Faschingsbasteln vorbei und genieße mit uns ei
 ne ausgelassene Zeit.</p></div></div><div class="cc-clear"> </div></div><di
 v id="cc-m-11505340497" class="j-module n j-header "><h3 id="cc-m-header-11
 505340497" class="">Programm</h3></div><div id="cc-m-11505340597" class="j-
 module n j-text "><p>Gemeinsam basteln wir aus Konfetti, Luftschlangen und 
 allerlei buntem Material witzige Deko und lustige Verkleidungen. Am Ende ge
 hst du kunterbunt und fröhlich nach Hause.</p><p> </p><p><strong>Für Kinder
  von 1 bis 3 Jahren.</strong></p></div><div id="cc-m-11505340797" class="j-
 module n j-header "><h3 id="cc-m-header-11505340797" class="">22. Februar 2
 019</h3></div><div id="cc-m-11505340897" class="j-module n j-hgrid "><div c
 lass="cc-m-hgrid-column" style="width: 49%;"><div id="cc-matrix-3154946797"
 ><div id="cc-m-11505340997" class="j-module n j-text "><p><strong>UHRZEIT</
 strong>: 15.00 - 16.30<br /> <strong>KOSTEN</strong>: € 24,-<br /> <strong>
 GESCHWISTERKIND</strong>: € 17,-<br /> <em>inkl. Bastelmaterial und Jause</
 em></p><p> </p><p>Biolino Institut</p><p>Sandwirtgasse 13/12, 1060 Wien</p>
 <p> </p><p>Hier geht`s zur Anmeldung:</p><p><a href="https://bit.ly/2CSsV3A
 ?fbclid=IwAR3pyXkpfDu_kkOT3YyJwGu7RVLaJ6P6KFU-y9t4XumFxzEsgwV4rfnpUxo" targ
 et="_blank" rel="nofollow noopener noreferrer" data-ft="{&quot;tn&quot;:&qu
 ot;-U&quot;}" data-lynx-mode="async" data-lynx-uri="https://l.facebook.com/
 l.php?u=https%3A%2F%2Fbit.ly%2F2CSsV3A%3Ffbclid%3DIwAR3pyXkpfDu_kkOT3YyJwGu
 7RVLaJ6P6KFU-y9t4XumFxzEsgwV4rfnpUxo&amp;h=AT3L7a1j5oGe3X3SbwYP7lZsCoCM-jHC
 MzkFRn64DRtoKUyXKfPicukw_a5BjerzMRZG-ODcJuTvY6nYxgUAxuVkKeKp2-9Z68R8z8B_04H
 3BvL_iJq4lk4rPs2Ta0CJEr7Fi56Ny28_KPTCL_OhwWYe07qIIgMMgi8zQjyyv0gSj1-81ajkKd
 3t9C-WgnBwOIoG5xx0MKxSXnJAwZnAJfxOoKWw64Oe1O810UXoJyX4V95azrPmOhXe9axGLP_WT
 BsFVjtcSu7na_ey3nLG37VgUbnq4Q-L3GZq65Bow60e3h8kZma7zKtIBTHlSow4dIUd3l9GafYn
 xYPUOzN0Yub9vcSX_DQX-E0YExQ26RbUCqAPlpNqR1l2CZcxBEecewVjLZ3MK2T5pkdWpRZff4D
 CJZl0PVmdJbBEgrU_nfAW4d9zHMAS_EQIRTPJkT1gErbgmkshTe4Jxo95QqzQkTIYRZHJhgvCE4
 paJr9csf08XVyfsKpxrxghg0xtAmVdKpdhNy4ySVR2r6pdxo3FuFC3FOmHMXL0dNchzGSmtEDnx
 k8tSTKiXvcHoDPau2hV9HK_1DAMKupOXvXPkte3uGKL4Wyj6IPSLSYUQTtLHeefGxQ7XuDhRINW
 HlBeJ2Z0jwI">https://bit.ly/2CSsV3A</a></p><p> </p><p>Ich freue mich auf ei
 nen bunten Bastelnachmittag mit euch! &lt;3</p><p> </p><p>Alles Liebe,</p><
 p>Martina</p></div></div></div></div>
X-ALT-DESC;FMTTYPE=text/html:<div id="cc-m-11505340397" class="j-module n j-textWithImage "><div><div id
 ="cc-m-textwithimage-11505340397" class="cc-m-textwithimage-inline-rte" dat
 a-name="text" data-action="https://babymamas.at/text"><p><span style="text-
 decoration: underline;"><strong>Faschingsbasteln</strong></span></p><p>In d
 er Faschingszeit wirds bunt. Komm zum gemeinsamen Faschingsbasteln vorbei u
 nd genieße mit uns eine ausgelassene Zeit.</p></div></div><div class="cc-cl
 ear"> </div></div><div id="cc-m-11505340497" class="j-module n j-header "><
 h3 id="cc-m-header-11505340497" class="">Programm</h3></div><div id="cc-m-1
 1505340597" class="j-module n j-text "><p>Gemeinsam basteln wir aus Konfett
 i, Luftschlangen und allerlei buntem Material witzige Deko und lustige Verk
 leidungen. Am Ende gehst du kunterbunt und fröhlich nach Hause.</p><p> </p>
 <p><strong>Für Kinder von 1 bis 3 Jahren.</strong></p></div><div id="cc-m-1
 1505340797" class="j-module n j-header "><h3 id="cc-m-header-11505340797" c
 lass="">22. Februar 2019</h3></div><div id="cc-m-11505340897" class="j-modu
 le n j-hgrid "><div class="cc-m-hgrid-column" style="width: 49%;"><div id="
 cc-matrix-3154946797"><div id="cc-m-11505340997" class="j-module n j-text "
 ><p><strong>UHRZEIT</strong>: 15.00 - 16.30<br /> <strong>KOSTEN</strong>: 
 € 24,-<br /> <strong>GESCHWISTERKIND</strong>: € 17,-<br /> <em>inkl. Baste
 lmaterial und Jause</em></p><p> </p><p>Biolino Institut</p><p>Sandwirtgasse
  13/12, 1060 Wien</p><p> </p><p>Hier geht`s zur Anmeldung:</p><p><a href="h
 ttps://bit.ly/2CSsV3A?fbclid=IwAR3pyXkpfDu_kkOT3YyJwGu7RVLaJ6P6KFU-y9t4XumF
 xzEsgwV4rfnpUxo" target="_blank" rel="nofollow noopener noreferrer" data-ft
 ="{&quot;tn&quot;:&quot;-U&quot;}" data-lynx-mode="async" data-lynx-uri="ht
 tps://l.facebook.com/l.php?u=https%3A%2F%2Fbit.ly%2F2CSsV3A%3Ffbclid%3DIwAR
 3pyXkpfDu_kkOT3YyJwGu7RVLaJ6P6KFU-y9t4XumFxzEsgwV4rfnpUxo&amp;h=AT3L7a1j5oG
 e3X3SbwYP7lZsCoCM-jHCMzkFRn64DRtoKUyXKfPicukw_a5BjerzMRZG-ODcJuTvY6nYxgUAxu
 VkKeKp2-9Z68R8z8B_04H3BvL_iJq4lk4rPs2Ta0CJEr7Fi56Ny28_KPTCL_OhwWYe07qIIgMMg
 i8zQjyyv0gSj1-81ajkKd3t9C-WgnBwOIoG5xx0MKxSXnJAwZnAJfxOoKWw64Oe1O810UXoJyX4
 V95azrPmOhXe9axGLP_WTBsFVjtcSu7na_ey3nLG37VgUbnq4Q-L3GZq65Bow60e3h8kZma7zKt
 IBTHlSow4dIUd3l9GafYnxYPUOzN0Yub9vcSX_DQX-E0YExQ26RbUCqAPlpNqR1l2CZcxBEecew
 VjLZ3MK2T5pkdWpRZff4DCJZl0PVmdJbBEgrU_nfAW4d9zHMAS_EQIRTPJkT1gErbgmkshTe4Jx
 o95QqzQkTIYRZHJhgvCE4paJr9csf08XVyfsKpxrxghg0xtAmVdKpdhNy4ySVR2r6pdxo3FuFC3
 FOmHMXL0dNchzGSmtEDnxk8tSTKiXvcHoDPau2hV9HK_1DAMKupOXvXPkte3uGKL4Wyj6IPSLSY
 UQTtLHeefGxQ7XuDhRINWHlBeJ2Z0jwI">https://bit.ly/2CSsV3A</a></p><p> </p><p>
 Ich freue mich auf einen bunten Bastelnachmittag mit euch! &lt;3</p><p> </p
 ><p>Alles Liebe,</p><p>Martina</p></div></div></div></div>
CONTACT:martina.novak@biolino.at, 0677 628 929 70
X-EXTRAINFO:[preis='2424'][anmeldung='true']
DTSTAMP:20260423T170119
DTSTART:20190222T140000
DTEND:20190222T153000
SEQUENCE:0
TRANSP:OPAQUE
END:VEVENT
END:VCALENDAR