BEGIN:VCALENDAR
VERSION:2.0
PRODID:-//jEvents 2.0 for Joomla//EN
CALSCALE:GREGORIAN
METHOD:PUBLISH
BEGIN:VEVENT
UID:9a6d81394d4561923c786eed4ccc555b
CATEGORIES:6. Bezirk
CREATED:20190115T165910
SUMMARY:Kinder-Kram Flohmarkt
LOCATION:Sandwirtgasse 13/12\, 1060 Wien
DESCRIPTION:Kinder-Kram FlohmarktVerkaufe deinen "Kinderkram" ?\nKleidung, Spielzeug, B
 ücher, Puzzle, Schuhe, Gummistiefel, Tragetücher, Trage-Cover und viele meh
 r.\n\nDein Standplatz: 15€\nAnmeldung auf www.biolino.at/flohmarkt (https:/
 /l.facebook.com/l.php?u=http%3A%2F%2Fwww.biolino.at%2Fflohmarkt%3Ffbclid%3D
 IwAR02t8JrnRHkT-9x35Z-eEBJqup10NleXxPyJUR1Z6ERF6Va6730WRjAU8Y&amp;h=AT38-ID
 I0APSBjFs8NJtOl2JZTcdQfx9rXOgDIdrMpKE6C5u6deNhVmAXD2kc7iz_5cG1Gwn5R2ifkU6UA
 rrYI86rJRCH3-E8jeNrl9O36rLVaHWy9sRyoSOBj7SKmR81Q): \nhttps://bit.ly/2OCVysx
  (https://l.facebook.com/l.php?u=https%3A%2F%2Fbit.ly%2F2OCVysx%3Ffbclid%3D
 IwAR2k6-T3bGtSOK_G4WpOIpyXYqfEqv3sV8uR3Nrxi1ybDMBGBy94vw7Ab08&amp;h=AT25hEX
 a6hi1AD5Wis2o3pjbx7rXit24isP-sS6X07LMIC5I9TRNArQxEOCbBYHxirSaFKtyzRw97TYNB_
 erYdZmdCjZaMhz4-ErJ1Xf3STmUUu1D1qqplEYw45lOPDC9g)\n\nBei freiem Eintritt ve
 rköstigen wir dich und deine Familie mit biologischen Süßspeisen und Geträn
 ken.\nWir freuen uns auf dich :)\n \nAlles Liebe,\nMartina und das Biolino 
 Team\n \nwww.biolino.at (http://www.biolino.at)\n
X-ALT-DESC;FMTTYPE=text/html:<h1><span style="text-decoration: underline;"><strong>Kinder-Kram Flohmarkt
 </strong></span></h1><p>Verkaufe deinen "Kinderkram" ?<br />Kleidung, Spiel
 zeug, Bücher, Puzzle, Schuhe, Gummistiefel, Tragetücher, Trage-Cover und vi
 ele mehr.<br /><br />Dein Standplatz: 15€<br />Anmeldung auf <a href="https
 ://l.facebook.com/l.php?u=http%3A%2F%2Fwww.biolino.at%2Fflohmarkt%3Ffbclid%
 3DIwAR02t8JrnRHkT-9x35Z-eEBJqup10NleXxPyJUR1Z6ERF6Va6730WRjAU8Y&amp;h=AT38-
 IDI0APSBjFs8NJtOl2JZTcdQfx9rXOgDIdrMpKE6C5u6deNhVmAXD2kc7iz_5cG1Gwn5R2ifkU6
 UArrYI86rJRCH3-E8jeNrl9O36rLVaHWy9sRyoSOBj7SKmR81Q" target="_blank" rel="no
 follow noopener noreferrer" data-lynx-mode="hover">www.biolino.at/flohmarkt
 </a>: <br /><a href="https://l.facebook.com/l.php?u=https%3A%2F%2Fbit.ly%2F
 2OCVysx%3Ffbclid%3DIwAR2k6-T3bGtSOK_G4WpOIpyXYqfEqv3sV8uR3Nrxi1ybDMBGBy94vw
 7Ab08&amp;h=AT25hEXa6hi1AD5Wis2o3pjbx7rXit24isP-sS6X07LMIC5I9TRNArQxEOCbBYH
 xirSaFKtyzRw97TYNB_erYdZmdCjZaMhz4-ErJ1Xf3STmUUu1D1qqplEYw45lOPDC9g" target
 ="_blank" rel="nofollow noopener noreferrer" data-lynx-mode="hover">https:/
 /bit.ly/2OCVysx</a><br /><br />Bei freiem Eintritt verköstigen wir dich und
  deine Familie mit biologischen Süßspeisen und Getränken.<br />Wir freuen u
 ns auf dich :)</p><p> </p><p>Alles Liebe,</p><p>Martina und das Biolino Tea
 m</p><p> </p><p><a href="http://www.biolino.at">www.biolino.at</a></p>
CONTACT:martina.novak@biolino.at, 0677 628 929 70
DTSTAMP:20260423T211544
DTSTART:20190331T110000
DTEND:20190331T150000
SEQUENCE:0
TRANSP:OPAQUE
END:VEVENT
END:VCALENDAR