BEGIN:VCALENDAR
VERSION:2.0
PRODID:-//jEvents 2.0 for Joomla//EN
CALSCALE:GREGORIAN
METHOD:PUBLISH
BEGIN:VEVENT
UID:3d6fac83f76ee680620bcae35614d3ad
CATEGORIES:6. Bezirk
CREATED:20190115T171354
SUMMARY:Biolino Familien-Atelier 
LOCATION:Sandwirtgasse 13/12\, 1060 Wien
DESCRIPTION:Biolino Familien-AtelierIm Biolino Familien-Atelier können große und kleine
  Künstlerinnen und Künstler nach Herzenslust mit unseren selbst hergestellt
 en Bio-Farben matschen und gatschen, ohne dass Mama oder Papa nachher aufrä
 umen müssen. Kommt gerne als Familie bei uns vorbei und verbringt einen kun
 terbunten Vormittag bei uns. \nEs wird klebrig, matschig, bröselig, kratzig
 : Sand, Erde, Getreidekörner, Holz und viele andere haptische Anregungen wa
 rten auf experimentierfreudige Entdecker*innen. Die Kinder können nach Herz
 enslust die Bio-Farben und Materialien mischen und dabei mit allen Sinnen e
 rleben, wie sie ihre Eigenschaften verändern.\nAm Ende gibt es für die Klei
 nen ein wohlig warmes Bad und ihr geht mit einem selbstgebastelten Andenken
  stolz nach Hause.\nWANN: Sonntag, 24. Februar 2019\nUHRZEIT: 10 - 12 Uhr\n
 KOSTEN: € 24,- für ein Elternpaar und ihre Kinder, inkl. Jause und Material
 \nORT: Sandwirtgasse 13/12, 1060 Wien\nwww.biolino.at (http://www.biolino.a
 t) \nFür Familien mit Kindern bis 4 Jahre.\n\nMelde dich bitte hier an: \nh
 ttps://bit.ly/2VTYjGI (https://bit.ly/2VTYjGI) \n \nIch freue mich auf eine
 n bunten Vormittag mit euch!\nAlles Liebe,\nMartina\n
X-ALT-DESC;FMTTYPE=text/html:<h2><span style="text-decoration: underline;">Biolino Familien-Atelier</spa
 n></h2><p><span style="font-weight: 400;">Im Biolino Familien-Atelier könne
 n große und kleine Künstlerinnen und Künstler nach Herzenslust mit unseren 
 selbst hergestellten Bio-Farben matschen und gatschen, ohne dass Mama oder 
 Papa nachher aufräumen müssen. Kommt gerne als Familie bei uns vorbei und v
 erbringt einen kunterbunten Vormittag bei uns. </span></p><p><span style="f
 ont-weight: 400;">Es wird klebrig, matschig, bröselig, kratzig: Sand, Erde,
  Getreidekörner, Holz und viele andere haptische Anregungen warten auf expe
 rimentierfreudige Entdecker*innen. Die Kinder können nach Herzenslust die B
 io-Farben und Materialien mischen und dabei mit allen Sinnen erleben, wie s
 ie ihre Eigenschaften verändern.</span></p><p><span style="font-weight: 400
 ;">Am Ende gibt es für die Kleinen ein wohlig warmes Bad und ihr geht mit e
 inem selbstgebastelten Andenken stolz nach Hause.</span></p><p><strong>WANN
 : Sonntag, 24. Februar 2019</strong><span style="font-weight: 400;"><br /><
 /span><span style="font-weight: 400;">UHRZEIT: 10 - 12 Uhr</span><span styl
 e="font-weight: 400;"><br /></span><span style="font-weight: 400;">KOSTEN: 
 € 24,- für ein Elternpaar und ihre Kinder, inkl. Jause und Material</span><
 /p><p><span style="font-weight: 400;">ORT: Sandwirtgasse 13/12, 1060 Wien</
 span></p><p><span style="font-weight: 400;"><a href="http://www.biolino.at"
 >www.biolino.at</a> </span></p><p><span style="font-weight: 400;">Für Famil
 ien mit Kindern bis 4 Jahre.<br /></span><span style="font-weight: 400;"><b
 r /></span><span style="font-weight: 400;">Melde dich bitte hier an: </span
 ></p><p><span style="font-weight: 400;"><a href="https://bit.ly/2VTYjGI">ht
 tps://bit.ly/2VTYjGI</a> </span></p><p> </p><p><span style="font-weight: 40
 0;">Ich freue mich auf einen bunten Vormittag mit euch!</span></p><p><span 
 style="font-weight: 400;">Alles Liebe,</span></p><p><span style="font-weigh
 t: 400;">Martina</span></p>
CONTACT:martina.novak@biolino.at, 0677 628 929 70
X-EXTRAINFO:[preis='2424'][anmeldung='true']
DTSTAMP:20260423T165622
DTSTART:20190224T090000
DTEND:20190224T110000
SEQUENCE:0
TRANSP:OPAQUE
END:VEVENT
END:VCALENDAR