BEGIN:VCALENDAR
VERSION:2.0
PRODID:-//jEvents 2.0 for Joomla//EN
CALSCALE:GREGORIAN
METHOD:PUBLISH
BEGIN:VEVENT
UID:e0d13fc437c73551b3cb83f7eacb4bda
CATEGORIES:13. Bezirk
CREATED:19700101T010000
SUMMARY:Pränatal Yoga für Schwangere
LOCATION:Ayurvedastudio Veda Vital Altgasse 23\, 2. Stock\, 1130 wien
DESCRIPTION:PRÄNATAL - Yoga für Schwangere 11:30h - 13h\nmit Yoga Schwangerschaftsbesch
 werden lindern und für eine leichte Geburt vorsorgen.\nNütze die positive W
 irkung von Yoga für dich und dein Baby. Yoga kann während der gesamten Schw
 angerschaft praktiziert werden, empfehlenswert ist die Teilnahme bereits ab
  der 12.SSW. „Yoga für Schwangere“ begleitet dich als werdende Mutter von A
 nfang an bis zur Geburt. \n„Yoga für Schwangere“ ist sowohl für Anfängerinn
 en als auch für Fortgeschrittene Yoginis geeignet, da die Übungen den indiv
 iduellen Bedürfnissen der Teilnehmerinnen angepasst werden. Die werdende Mu
 tter erfährt durch entspannende und kräftigende Yogaübungen sowie gezielten
  Atemübungen Erleichterung in den klassischen, körperlichen Beschwerden wäh
 rend der Schwangerschaft. Yoga für Schwangere hilft dir außerdem den Kontak
 t zu deinem Baby zu vertiefen. Yoga gemeinsam mit anderen Mamas zu praktizi
 eren kann dir helfen, Fragen oder Ängste vor der Geburt abzubauen.\nDie Aus
 wirkungen von Yoga können nicht nur die Schwangerschaft, sondern auch den G
 eburtsverlauf und das Wochenbett positiv beeinflussen. Vielen werdenden Müt
 tern dient der Kurs auch zum regelmäßigen Austausch über sämtliche Themen d
 er bevorstehenden Mutterschaft. So wird der Yogakurs zu einer optimalen Geb
 urtsvorbereitung und einem wunderbaren sanften Trainingsformat für Körper, 
 Geist und Seele.\nBitte stimme mit dem Arzt ab, ob Du am Yogaunterricht tei
 lnehmen darfst. Vor deiner 1. Stunde bitte ich um Anmeldung!bweitere Infos:
  \nwww.yogavibe.at (http://www.yogavibe.at)\n
X-ALT-DESC;FMTTYPE=text/html:<p>PRÄNATAL - <strong>Yoga für Schwangere 11:30h - 13h</strong><br />mit Yo
 ga Schwangerschaftsbeschwerden lindern und für eine leichte Geburt vorsorge
 n.</p><p>Nütze die positive Wirkung von Yoga für dich und dein Baby. Yoga k
 ann während der gesamten Schwangerschaft praktiziert werden, empfehlenswert
  ist die Teilnahme bereits ab der 12.SSW. „Yoga für Schwangere“ begleitet d
 ich als werdende Mutter von Anfang an bis zur Geburt. </p><p>„Yoga für Schw
 angere“ ist sowohl für Anfängerinnen als auch für Fortgeschrittene Yoginis 
 geeignet, da die Übungen den individuellen Bedürfnissen der Teilnehmerinnen
  angepasst werden. Die werdende Mutter erfährt durch entspannende und kräft
 igende Yogaübungen sowie gezielten Atemübungen Erleichterung in den klassis
 chen, körperlichen Beschwerden während der Schwangerschaft. Yoga für Schwan
 gere hilft dir außerdem den Kontakt zu deinem Baby zu vertiefen. Yoga gemei
 nsam mit anderen Mamas zu praktizieren kann dir helfen, Fragen oder Ängste 
 vor der Geburt abzubauen.</p><p>Die Auswirkungen von Yoga können nicht nur 
 die Schwangerschaft, sondern auch den Geburtsverlauf und das Wochenbett pos
 itiv beeinflussen. Vielen werdenden Müttern dient der Kurs auch zum regelmä
 ßigen Austausch über sämtliche Themen der bevorstehenden Mutterschaft. So w
 ird der Yogakurs zu einer optimalen Geburtsvorbereitung und einem wunderbar
 en sanften Trainingsformat für Körper, Geist und Seele.</p><p>Bitte stimme 
 mit dem Arzt ab, ob Du am Yogaunterricht teilnehmen darfst. Vor deiner 1. S
 tunde bitte ich um Anmeldung!bweitere Infos: </p><p><a title="Pränatal - Yo
 ga für Schwangere " href="http://www.yogavibe.at" target="_blank" rel="noop
 ener noreferrer">www.yogavibe.at</a></p>
CONTACT:Eva Jankovsky
X-EXTRAINFO:[preis='1500'][anmeldung='false']
DTSTAMP:20260423T165642
DTSTART:20190115T103000
DTEND:20190116T120000
SEQUENCE:0
RRULE:FREQ=WEEKLY;UNTIL=20190625T000000Z;INTERVAL=1;BYDAY=TU
TRANSP:OPAQUE
END:VEVENT
END:VCALENDAR