BEGIN:VCALENDAR
VERSION:2.0
PRODID:-//jEvents 2.0 for Joomla//EN
CALSCALE:GREGORIAN
METHOD:PUBLISH
BEGIN:VEVENT
UID:938cd509e262bbe9e71dbc19950eff62
CATEGORIES:16. Bezirk
CREATED:19700101T010000
SUMMARY:YOGA für SCHWANGERE in einer kleinen Gruppe
LOCATION:Steinbruchstraße 6\, 1160 Wien
DESCRIPTION:Yoga für schwangere FrauenYoga für Schwangere hilft dir möglichst entspannt
  durch deine Schwangerschaft zu gehen. Mit sanften aber dennoch kräftigende
 n Yoga Übungen wird dein Körper auf die Geburt vorbereitet und ganz bewusst
  entspannt. Der Kurs ist ideal, um dich auf deinen sich verändernen Körper 
 einzustellen und den immer wieder aufkehrenden Ängsten, Sorgen und Gefühlen
  mit Ruhe und Kraft zu begegnen.\nGeeignet ist der Kurs bis kurz vor dem Ge
 burtstermin, wenn du das ok von deinem Gynäkologen hast und du dich dabei w
 ohl fühlst.\nJeden Dienstag von 16:30 - 18:00 bei Körpergut im 16.Bezirk (h
 ttps://www.koerpergut.at/kursplan1160/) (Steinbruchstraße 6) mit Daniela (m
 ax. 6 Frauen) (https://www.koerpergut.at/team/)\nSchnupperstunde: 10€ \n
X-ALT-DESC;FMTTYPE=text/html:<div class="fusion-text"><h3 style="text-align: left;"></h3><h3 style="text
 -align: left;">Yoga für schwangere Frauen</h3><p>Yoga für Schwangere hilft 
 dir möglichst entspannt durch deine Schwangerschaft zu gehen. Mit sanften a
 ber dennoch kräftigenden Yoga Übungen wird dein Körper auf die Geburt vorbe
 reitet und ganz bewusst entspannt. Der Kurs ist ideal, um dich auf deinen s
 ich verändernen Körper einzustellen und den immer wieder aufkehrenden Ängst
 en, Sorgen und Gefühlen mit Ruhe und Kraft zu begegnen.</p><p>Geeignet ist 
 der Kurs bis kurz vor dem Geburtstermin, wenn du das ok von deinem Gynäkolo
 gen hast und du dich dabei wohl fühlst.</p><p>Jeden Dienstag von 16:30 - 18
 :00 bei Körpergut im <a href="https://www.koerpergut.at/kursplan1160/">16.B
 ezirk</a> (Steinbruchstraße 6) mit <a href="https://www.koerpergut.at/team/
 ">Daniela (max. 6 Frauen)</a></p><p>Schnupperstunde: 10€ </p></div>
CONTACT:office@koerpergut.at
X-EXTRAINFO:[preis='1000'][anmeldung='true']
DTSTAMP:20260425T134519
DTSTART:20190122T153000
DTEND:20190122T170000
SEQUENCE:0
RRULE:FREQ=WEEKLY;UNTIL=20190629T000000Z;INTERVAL=1;BYDAY=TU
TRANSP:OPAQUE
END:VEVENT
END:VCALENDAR