BEGIN:VCALENDAR
VERSION:2.0
PRODID:-//jEvents 2.0 for Joomla//EN
CALSCALE:GREGORIAN
METHOD:PUBLISH
BEGIN:VEVENT
UID:db53130dfe02477056c4ec6cc8834abb
CATEGORIES:2. Bezirk
CREATED:19700101T010000
SUMMARY:ORIGINAL PLAY - Offene Spielgruppe für Kinder von 3 bis 15 Jahren
LOCATION:EKiZ 'Kind &amp; Kegel'\, 1020 Wien\,  Praterstraße 14/8
DESCRIPTION:<p class="p1">Spielen wie Wölfe, Bären, Löwen - bei <i>Original Play</i> gi
 bt es kein Gewinnen und Verlieren.</p><p class="p1">Ob sanft oder wild: wir
  spielen immer liebevoll und sicher!</p><p class="p2"> </p><p class="p3">im
  Eltern-Kind-Zentrum  'Kind &amp; Kegel'</p><p class="p3">1020 Wien, Prater
 straße 14/8</p><p class="p2"> </p><p class="p3">an Montagen (wenn Schultag)
  von 16.30 bis 17.30 Uhr:</p><p class="p5">11.2., 18.2., 25.2., 4.3., 11.3.
 , 18.3., 25.3.,</p><p class="p5">1.4., 8.4., 29.4., 6.5., 13.5., 20.5., 27.
 5., </p><p class="p5">3.6., 17.6. und 24.6.2019</p><p class="p4"> </p><p cl
 ass="p6">Original Play ist das Ergebnis von 40 Jahren Forschung von Dr. O. 
 Fred Donaldson zum Spielverhalten von Kindern und frei lebenden Tieren. Es 
 bedeutet in Verbindung zu sein mit dem eigenen Herzen und in liebevollen Ko
 ntakt mit anderen Lebewesen zu treten. Bei Original Play gibt es kein Richt
 ig und kein Falsch, keinen Kampf und keine Konkurrenz, kein Stark und kein 
 Schwach, kein Ausgeschlossen sein und keine Angst. Es kann aussehen wie ein
  nebeneinander Herumkrabbeln auf der Spielfläche, wie sanfte Berührungen mi
 t den Fingern, wie wildes Balgen oder wie ...</p><p class="p7"><span class=
 "s1">‚Von Herzen spielen‘ ist das, was wir instinktiv mit Babys und Kleinki
 ndern tun – oder wie junge Hunde miteinander spielen. Aber mit ca. drei Jah
 ren weicht dieses liebevolle Spiel in unserer Kultur dem Wettbewerb, Spielr
 egeln oder sogar Raufen und Kämpfen! Und das verunsichert und frustriert Ki
 nder wie Eltern. Original Play zeigt, wie man diesen Schatz hinüberretten k
 ann und weiter liebevoll und sicher miteinander spielen kann – von kuscheli
 g bis wild und schnell! Erleben Sie das ‚Ursprüngliche Spiel‘ mit Ihren Kin
 dern auf der Mattenfläche.</span></p><p class="p4"></p><p class="p3">weiter
 e Informationen:</p><p class="p8">www.originalplay.at</p><p class="p9">Vere
 in 'Original Play Österreich - von Herzen spielen'</p>
CONTACT:Christian Bauer, 0664 5166881
X-EXTRAINFO:[preis='1000'][anmeldung='false']
DTSTAMP:20260423T195321
DTSTART:20190211T153000
DTEND:20190211T163000
SEQUENCE:0
RRULE:FREQ=WEEKLY;COUNT=9999;INTERVAL=1;BYDAY=MO
EXDATE:20190415T143000,20190422T143000,20190610T143000
TRANSP:OPAQUE
END:VEVENT
END:VCALENDAR