BEGIN:VCALENDAR
VERSION:2.0
PRODID:-//jEvents 2.0 for Joomla//EN
CALSCALE:GREGORIAN
METHOD:PUBLISH
BEGIN:VEVENT
UID:1b3639508795ee22ef3b16ff1db7419d
CATEGORIES:15. Bezirk
CREATED:20190122T105136
SUMMARY:Trage-Treff: Rückentragen mit Onbuhimo
LOCATION:Gablenzgasse 97/25
DESCRIPTION:Der Onbuhimo, kurz Onbu, ist eine Tragehilfe ohne Hüftgurt, die speziell fü
 r das Rückentragen konzipiert wurde. Du kannst sie ab spätem Sitz- bzw. Ste
 halter deines Kindes verwenden. Schnell und einfach anzulegen, sind Onbus a
 uch für Kleinkinder, die öfter zwischen gehen und getragen werden wechseln 
 wollen, ideal. \nKomm zum Trage-Treff, teste dich durch eine bunte Auswahl 
 an Onbuhimos und tausche dich mit anderen Trageeltern aus. Auch für all dei
 ne aktuellen Trage-Fragen habe ich wieder ein offenes Ohr und stehe dir ger
 ne mit Rat und Tat zur Seite.\n
X-ALT-DESC;FMTTYPE=text/html:<p>Der Onbuhimo, kurz Onbu, ist eine Tragehilfe ohne Hüftgurt, die speziell
  für das Rückentragen konzipiert wurde. Du kannst sie ab spätem Sitz- bzw. 
 Stehalter deines Kindes verwenden. Schnell und einfach anzulegen, sind Onbu
 s auch für Kleinkinder, die öfter zwischen gehen und getragen werden wechse
 ln wollen, ideal. </p><p>Komm zum Trage-Treff, teste dich durch eine bunte 
 Auswahl an Onbuhimos und tausche dich mit anderen Trageeltern aus. Auch für
  all deine aktuellen Trage-Fragen habe ich wieder ein offenes Ohr und stehe
  dir gerne mit Rat und Tat zur Seite.</p>
CONTACT:susanna.garic@gmail.com
X-EXTRAINFO:[preis='900'][anmeldung='true']
DTSTAMP:20260425T202620
DTSTART:20190211T100000
DTEND:20190211T110000
SEQUENCE:0
TRANSP:OPAQUE
END:VEVENT
END:VCALENDAR