BEGIN:VCALENDAR
VERSION:2.0
PRODID:-//jEvents 2.0 for Joomla//EN
CALSCALE:GREGORIAN
METHOD:PUBLISH
BEGIN:VEVENT
UID:a9e844e5b716aebcb471a507ad1a5ccc
CATEGORIES:18. Bezirk
CREATED:20190122T112601
SUMMARY: Spielgruppe mit Musik für Kleinkinder (12- 24 Monate)
LOCATION:SPIELRINGEL Mollgasse 11-13
DESCRIPTION:<div id="c235" class="frame frame-default frame-type-text frame-background-
 none frame-no-backgroundimage frame-space-before-none frame-space-after-non
 e"><div class="frame-container"><div class="frame-inner"><p>Gemeinsam werde
 n wir singen, musizieren und tanzen. Der Gruppenraum wird zum Erlebnis- und
  Bewegungsraum. In gemütlicher, kindgerechter Umgebung können neue Bekannts
 chaften geschlossen werden.</p><p>Jede Stunde regen neue Spielimpulse zum M
 itmachen an und geben Anreiz zur leichten Umsetzung zu Hause.</p><p>Dein Ki
 nd hat die Möglichkeit sich frei in einer Gruppe Gleichaltriger zu bewegen 
 und dich trotzdem immer als sicheren Hafen zur Einkehr bei sich zu haben.</
 p><p><span class="text-primary">Start:</span><br /> neuer 5 Wochen-Kurs ab 
 28.1.2019 mit Susanne</p><p><span class="text-primary">Kurstag</span>:<br /
 > Montag 16:00-17:30</p><p><span class="text-primary">Termine:</span></p><p
 > 28.1., 4.2., 18.2, 25.2., 4.3.</p><p><span class="text-primary">Kosten:</
 span></p><p>€ 90,- (5 Wochen-Kurs)</p><p><span class="text-primary">Info &a
 mp; Anmeldung:</span><br /><a href="mailto:kontakt@schwangerschaft-elternsc
 haft.at">office@spielringel.at</a></p><p> </p></div></div></div>
CONTACT:http://schwangerschaft-elternschaft.at/angebote/spiel-spass-musik/spielgruppe-mit-musik-fuer-kleinkinder/ (http://schwangerschaft-elternschaft.at/angebote/spiel-spass-musik/spielgruppe-mit-musik-fuer-kleinkinder/)
X-EXTRAINFO:[preis='9000'][anmeldung='true']
DTSTAMP:20260425T135008
DTSTART:20190128T150000
DTEND:20190128T163000
SEQUENCE:0
TRANSP:OPAQUE
END:VEVENT
END:VCALENDAR