BEGIN:VCALENDAR
VERSION:2.0
PRODID:-//jEvents 2.0 for Joomla//EN
CALSCALE:GREGORIAN
METHOD:PUBLISH
BEGIN:VEVENT
UID:1a3dfd205fcc7d64a91977fb5628160e
CATEGORIES:18. Bezirk
CREATED:20190122T113249
SUMMARY: Spielgruppe mit Musik für Kleinkinder (12- 24 Monate)
LOCATION:SPIELRINGEL Mollgasse 11-13
DESCRIPTION:Gemeinsam werden wir singen, musizieren und tanzen. Der Gruppenraum wird zu
 m Erlebnis- und Bewegungsraum. In gemütlicher, kindgerechter Umgebung könne
 n neue Bekanntschaften geschlossen werden.\nJede Stunde regen neue Spielimp
 ulse zum Mitmachen an und geben Anreiz zur leichten Umsetzung zu Hause.\nDe
 in Kind hat die Möglichkeit sich frei in einer Gruppe Gleichaltriger zu bew
 egen und dich trotzdem immer als sicheren Hafen zur Einkehr bei sich zu hab
 en.\nStart:\n neuer 5 Wochen-Kurs ab 28.1.2019 mit Susanne\nKurstag:\n Mont
 ag 16:00-17:30\nTermine:\n 28.1., 4.2., 18.2, 25.2., 4.3.\nKosten:\n€ 90,- 
 (5 Wochen-Kurs)\nInfo &amp; Anmeldung:\noffice@spielringel.at (mailto:konta
 kt@schwangerschaft-elternschaft.at)\n
X-ALT-DESC;FMTTYPE=text/html:<div id="c235" class="frame frame-default frame-type-text frame-background-
 none frame-no-backgroundimage frame-space-before-none frame-space-after-non
 e"><div class="frame-container"><div class="frame-inner"><p>Gemeinsam werde
 n wir singen, musizieren und tanzen. Der Gruppenraum wird zum Erlebnis- und
  Bewegungsraum. In gemütlicher, kindgerechter Umgebung können neue Bekannts
 chaften geschlossen werden.</p><p>Jede Stunde regen neue Spielimpulse zum M
 itmachen an und geben Anreiz zur leichten Umsetzung zu Hause.</p><p>Dein Ki
 nd hat die Möglichkeit sich frei in einer Gruppe Gleichaltriger zu bewegen 
 und dich trotzdem immer als sicheren Hafen zur Einkehr bei sich zu haben.</
 p><p><span class="text-primary">Start:</span><br /> neuer 5 Wochen-Kurs ab 
 28.1.2019 mit Susanne</p><p><span class="text-primary">Kurstag</span>:<br /
 > Montag 16:00-17:30</p><p><span class="text-primary">Termine:</span></p><p
 > 28.1., 4.2., 18.2, 25.2., 4.3.</p><p><span class="text-primary">Kosten:</
 span></p><p>€ 90,- (5 Wochen-Kurs)</p><p><span class="text-primary">Info &a
 mp; Anmeldung:</span><br /><a href="mailto:kontakt@schwangerschaft-elternsc
 haft.at">office@spielringel.at</a></p></div></div></div>
CONTACT:http://schwangerschaft-elternschaft.at/angebote/spiel-spass-musik/spielgruppe-mit-musik-fuer-kleinkinder/ (http://schwangerschaft-elternschaft.at/angebote/spiel-spass-musik/spielgruppe-mit-musik-fuer-kleinkinder/)
X-EXTRAINFO:[preis='9000'][anmeldung='true']
DTSTAMP:20260425T153706
DTSTART:20190225T150000
DTEND:20190225T163000
SEQUENCE:0
TRANSP:OPAQUE
END:VEVENT
END:VCALENDAR