BEGIN:VCALENDAR
VERSION:2.0
PRODID:-//jEvents 2.0 for Joomla//EN
CALSCALE:GREGORIAN
METHOD:PUBLISH
BEGIN:VEVENT
UID:4cf69049add06a02c8799650e963f5c3
CATEGORIES:18. Bezirk
CREATED:20190122T114748
SUMMARY: Spielgruppe mit Musik für Babys (6-14 Monate)
LOCATION:SPIELRINGEL Mollgasse 11-13
DESCRIPTION:„Musikalität ist vor allem die Fähigkeit von Musik berührt zu werden.“\nEs 
 wird dem Alter und der Entwicklung der Babys entsprechend, gespielt, gesung
 en, getanzt und musiziert. Musik fördert die Entwicklung von Babys: Sie ist
  gut für die Bewegungskoordination, die Sprachentwicklung, den Gleichgewich
 tssinn und die Bindung zur Bezugsperson. Das beste daran ist, dass es einfa
 ch Freude macht!\nStart:\n neuer 5 Wochen-Kurs ab 28.1.2019 mit Susanne\nKu
 rstag:\n Montag 14:00-15:30\nTermine:\n28.1., 4.2., 18.2, 25.2., 4.3.\nKost
 en:\n€ 90,- (5 Wochen-Kurs)\nInfo &amp; Anmeldung:\noffice@spielringel.at (
 mailto:kontakt@schwangerschaft-elternschaft.at)\n \n
X-ALT-DESC;FMTTYPE=text/html:<div id="c234" class="frame frame-default frame-type-text frame-background-
 none frame-no-backgroundimage frame-space-before-none frame-space-after-non
 e"><div class="frame-container"><div class="frame-inner"><p><strong><em>„</
 em>Musikalität ist vor allem die Fähigkeit von Musik berührt zu werden.<em>
 “</em></strong></p><p>Es wird dem Alter und der Entwicklung der Babys entsp
 rechend, gespielt, gesungen, getanzt und musiziert. Musik fördert die Entwi
 cklung von Babys: Sie ist gut für die Bewegungskoordination, die Sprachentw
 icklung, den Gleichgewichtssinn und die Bindung zur Bezugsperson. Das beste
  daran ist, dass es einfach Freude macht!</p><div id="c234" class="frame fr
 ame-default frame-type-text frame-background-none frame-no-backgroundimage 
 frame-space-before-none frame-space-after-none"><div class="frame-container
 "><div class="frame-inner"><p><span class="text-primary">Start:</span><br /
 > neuer 5 Wochen-Kurs ab 28.1.2019 mit Susanne</p><p><span class="text-prim
 ary">Kurstag</span>:<br /> Montag 14:00-15:30</p><p><span class="text-prima
 ry">Termine:</span></p><p>28.1., 4.2., 18.2, 25.2., 4.3.</p><p><span class=
 "text-primary">Kosten:</span></p><p>€ 90,- (5 Wochen-Kurs)</p><p><span clas
 s="text-primary">Info &amp; Anmeldung:</span><br /><a href="mailto:kontakt@
 schwangerschaft-elternschaft.at">office@spielringel.at</a></p><p> </p></div
 ></div></div></div></div></div>
CONTACT:http://schwangerschaft-elternschaft.at/angebote/spiel-spass-musik/spielgruppe-mit-musik-fuer-babys/ (http://schwangerschaft-elternschaft.at/angebote/spiel-spass-musik/spielgruppe-mit-musik-fuer-babys/)
X-EXTRAINFO:[preis='9000'][anmeldung='true']
DTSTAMP:20260425T184422
DTSTART:20190304T130000
DTEND:20190304T143000
SEQUENCE:0
TRANSP:OPAQUE
END:VEVENT
END:VCALENDAR