BEGIN:VCALENDAR
VERSION:2.0
PRODID:-//jEvents 2.0 for Joomla//EN
CALSCALE:GREGORIAN
METHOD:PUBLISH
BEGIN:VEVENT
UID:a4ce2e659b3b2b3a5d5f6a4830857bdb
CATEGORIES:18. Bezirk
CREATED:20190122T115153
SUMMARY:Komm und lerne BabySteps kennen! 
LOCATION:SPIELRINGEL Mollgasse 11-13
DESCRIPTION:BabySteps Schnupperstunde\nBabySteps bietet für dich\n\n - Viele spannende,
  wissenschaftliche Erkenntnisse über die Entwicklung in den ersten Lebensja
 hren\n\n - Tipps und Tricks für einen leichteren Alltag mit deinem Baby\n\n
  - Austausch mit anderen Müttern\nBabySteps bietet für dein Baby\n\n - Entw
 icklung im ersten Lebensjahr\n\n - Entwicklungsgerechte Spielanregungen\n\n
  - Erster Kontakt zu anderen Kindern\nFür Schwangere und Mamas mit Babys bi
 s 4 Monate!\nTermin: \n Donnerstag 31.01.2019 17:00-18:00 mit Doris (http:/
 /schwangerschaft-elternschaft.at/das-team/doris/)\nKosten: 10 Euro (werden 
 bei Kursbuchung gut geschrieben)\nInfo &amp; Anmeldung:\n0650 888 2802 oder
  info@trageberatung-elfimbeutel.at\n \n
X-ALT-DESC;FMTTYPE=text/html:<p>BabySteps Schnupperstunde</p><p>BabySteps bietet für <strong>dich</stron
 g></p><ul class="list-normal"><li><p>Viele spannende, wissenschaftliche Erk
 enntnisse über die Entwicklung in den ersten Lebensjahren</p></li><li><p>Ti
 pps und Tricks für einen leichteren Alltag mit deinem Baby</p></li><li><p>A
 ustausch mit anderen Müttern</p></li></ul><p>BabySteps bietet für <strong>d
 ein Baby</strong></p><ul class="list-normal"><li><p>Entwicklung im ersten L
 ebensjahr</p></li><li><p>Entwicklungsgerechte Spielanregungen</p></li><li><
 p>Erster Kontakt zu anderen Kindern</p></li></ul><p>Für Schwangere und Mama
 s mit Babys bis 4 Monate!</p><p><span class="text-primary">Termin:</span> <
 br /> Donnerstag 31.01.2019 17:00-18:00 mit <a href="http://schwangerschaft
 -elternschaft.at/das-team/doris/">Doris</a></p><p><span class="text-primary
 ">Kosten:</span> 10 Euro (werden bei Kursbuchung gut geschrieben)</p><p><sp
 an class="text-primary">Info &amp; Anmeldung:</span></p><p>0650 888 2802 od
 er info@trageberatung-elfimbeutel.at</p><p> </p>
CONTACT:http://schwangerschaft-elternschaft.at/angebote/vortraege-workshops/komm-und-lerne-babysteps-kennen/ (http://schwangerschaft-elternschaft.at/angebote/vortraege-workshops/komm-und-lerne-babysteps-kennen/)
X-EXTRAINFO:[preis='1000'][anmeldung='true']
DTSTAMP:20260425T202610
DTSTART:20190131T160000
DTEND:20190131T170000
SEQUENCE:0
TRANSP:OPAQUE
END:VEVENT
END:VCALENDAR