BEGIN:VCALENDAR
VERSION:2.0
PRODID:-//jEvents 2.0 for Joomla//EN
CALSCALE:GREGORIAN
METHOD:PUBLISH
BEGIN:VEVENT
UID:abd505e1be754618cae6552e39426bb4
CATEGORIES:18. Bezirk
CREATED:20190122T115832
SUMMARY:Langzeitstillgruppe 
LOCATION:SPIELRINGEL Mollgasse 11-13
DESCRIPTION:Austauschgruppe für Langzeit- und TandemstillmamasWenn man länger als gewöh
 nlich und vielleicht sogar zwei Kinder stillt, fühlt man sich oft unverstan
 den und alleine. Bei uns kannst du Gleichgesinnte treffen, Erfahrungen aust
 auschen und bekommst Unterstützung von zwei langzeitstillenden AFS-Stillber
 aterinnen (in Ausbildung).\njeden 1. Freitag im Monat mit Momo  (http://sch
 wangerschaft-elternschaft.at/das-team/momo/)und Claudia  (http://schwangers
 chaft-elternschaft.at/das-team/claudia/)\nnächste Termine: 1.2., 1.3., 5.4.
 , 3.5., 7.6., 5.7.\nKosten:\n 3 Euro Unkostenbeitrag\nInfo &amp; Anmeldung:
 \noffice@spielringel.at\nWir bitten um Anmeldung spätestens am Tag davor!\n
X-ALT-DESC;FMTTYPE=text/html:<header><h3 class="element-subheader ">Austauschgruppe für Langzeit- und Ta
 ndemstillmamas</h3></header><p>Wenn man länger als gewöhnlich und vielleich
 t sogar zwei Kinder stillt, fühlt man sich oft unverstanden und alleine. Be
 i uns kannst du Gleichgesinnte treffen, Erfahrungen austauschen und bekomms
 t Unterstützung von zwei langzeitstillenden AFS-Stillberaterinnen (in Ausbi
 ldung).</p><p>jeden 1. Freitag im Monat mit <a href="http://schwangerschaft
 -elternschaft.at/das-team/momo/">Momo </a>und <a href="http://schwangerscha
 ft-elternschaft.at/das-team/claudia/">Claudia </a></p><p>nächste Termine: 1
 .2., 1.3., 5.4., 3.5., 7.6., 5.7.</p><p><span class="text-primary">Kosten:<
 /span><br /> 3 Euro Unkostenbeitrag</p><p><span class="text-primary">Info &
 amp; Anmeldung:</span></p><p>office@spielringel.at</p><p>Wir bitten um Anme
 ldung spätestens am Tag davor!</p>
CONTACT:http://schwangerschaft-elternschaft.at/angebote/beratung-begleitung/langzeitstillgruppe/ (http://schwangerschaft-elternschaft.at/angebote/beratung-begleitung/langzeitstillgruppe/)
X-EXTRAINFO:[preis='300'][anmeldung='true']
DTSTAMP:20260425T170132
DTSTART:20190201T133000
DTEND:20190201T150000
SEQUENCE:0
TRANSP:OPAQUE
END:VEVENT
END:VCALENDAR