BEGIN:VCALENDAR
VERSION:2.0
PRODID:-//jEvents 2.0 for Joomla//EN
CALSCALE:GREGORIAN
METHOD:PUBLISH
BEGIN:VEVENT
UID:87bb8138493fff4b15fb8ed8f3171e7a
CATEGORIES:18. Bezirk
CREATED:19700101T010000
SUMMARY:Schwangerenyoga 
LOCATION:SPIELRINGEL Mollgasse 11-13
DESCRIPTION:<div id="c276" class="frame frame-default frame-type-text frame-background-
  frame-no-backgroundimage frame-space-before-none frame-space-after-none"><
 div class="frame-container"><div class="frame-inner"><p>Eine <strong>SCHWAN
 GERSCHAFT</strong> ist eine ganz besondere Zeit im Leben einer Frau. Es ist
  die Zeit großer Veränderungen – im Körper, in der Gefühlswelt und in der R
 olle, die die werdende Mutter in Beruf und Partnerschaft einnimmt. Es ist e
 ine Zeit, in der intuitiv die Bereitschaft, nach innen zu schauen und mit s
 ich selbst in Kontakt zu sein, sehr groß ist. Yoga ist genau in dieser wich
 tigen Lebensphase eine wunderbare Art, diese Verbindung zu sich selbst zu f
 inden und zu intensivieren. Atemübungen führen sanft in den Moment und lass
 en die immer kreisenden Gedanken zur Ruhe kommen, und sanfte Körperübungen 
 schaffen eine wunderbare Verbindung zwischen Körper und Geist.</p><p>Yoga i
 st sowohl für Frauen, die bereits Vorerfahrung haben, als auch für Yoga-Anf
 ängerinnen eine wunderbare Möglichkeit, körperlich und geistig beweglich zu
  bleiben, die Veränderungen anzunehmen und sich auf all das Neue vorzuberei
 ten. Empfehlenswert ist dafür ein spezieller Kurs für werdende Mütter, denn
  es gibt viele Asanas, die man während der Schwangerschaft nicht praktizier
 en soll, und wiederum welche, die genau in diesen Monaten besonders wertvol
 l sind.</p><p>Februarkurs: 6.2., 13.2., 20.2., 27.2.</p><p>Mittwoch 10:30-1
 1:30 mit Rita vom <a href="http://www.studio-ich.at/" target="_blank" rel="
 noopener noreferrer">Studio Ich</a></p><p><span class="text-primary">Kosten
 :</span><br /> 4 Wochen-Kurs: € 60,-</p><p><span class="text-primary">Info 
 &amp; Anmeldung:</span><br /><a href="mailto:kontakt@schwangerschaft-eltern
 schaft.at">office@spielringel.at</a></p></div></div></div>
CONTACT:http://schwangerschaft-elternschaft.at/angebote/bewegung-entspannung/schwangerenyoga/
X-EXTRAINFO:[preis='6000'][anmeldung='true']
DTSTAMP:20260425T154046
DTSTART:20190206T093000
DTEND:20190206T103000
SEQUENCE:0
RRULE:FREQ=WEEKLY;UNTIL=20190228T000000Z;INTERVAL=1;BYDAY=WE
TRANSP:OPAQUE
END:VEVENT
END:VCALENDAR