BEGIN:VCALENDAR
VERSION:2.0
PRODID:-//jEvents 2.0 for Joomla//EN
CALSCALE:GREGORIAN
METHOD:PUBLISH
BEGIN:VEVENT
UID:0f6cf6b0221a19aa616dd9443b1307c9
CATEGORIES:2. Bezirk
CREATED:20190122T121212
SUMMARY:Spiel- und BewegungsRaum nach Emmi Pikler 7-14 Monate
LOCATION:Kind&amp;Kegel Eltern-Kind-Zentrum\, 2.\, Praterstr. 14/8
DESCRIPTION:<h2> </h2><h3>Für Kinder von 7-14 Monate</h3><p>Der SpielRaum bietet sich a
 ls Experimentier- und Lernfeld für Eltern an. Sie bekommen hier die Möglich
 keit, ihr Kind in seinen Eigenaktivitäten und im individuellen Rhythmus bei
 m freien Spiel mit den Krabbel-, Kletter- und Balanciergeräten zu beobachte
 n.<br /><br /><span class="fett">7-14 Monate:</span></p><p>Freitag,</p><p>G
 ruppe 1: 09:15-10:45 ab 25.01.2019; 11 Einheiten (incl. 2 Elterngesprächsru
 nden), Kosten € 163.-</p><p>Gruppe 2: 11:<span class="kleinhoch">00</span>-
 12:<span class="kleinhoch">30</span>, <br />ab 18.01.19 | 12 Einheiten (ink
 l. 2 Elterngesprächsrunden), Kosten: € 176,-</p><p>Anmeldung erforderlich!<
 br /><br /></p>
CONTACT:info@kind-und-kegel.at, 01 503 71 88, www.kind-und-kegel.at
X-EXTRAINFO:[preis='17600'][anmeldung='true']
DTSTAMP:20260423T195317
DTSTART:20190125T081500
DTEND:20190125T094500
SEQUENCE:0
TRANSP:OPAQUE
END:VEVENT
END:VCALENDAR