BEGIN:VCALENDAR
VERSION:2.0
PRODID:-//jEvents 2.0 for Joomla//EN
CALSCALE:GREGORIAN
METHOD:PUBLISH
BEGIN:VEVENT
UID:2839ef4e51977ca9bb095259965a5891
CATEGORIES:15. Bezirk
CREATED:20190122T160252
SUMMARY:Kinder mögen Hausmittel
LOCATION:Kinderatelier Wien\, Neubaugürtel 7\, 1150
DESCRIPTION:Husten, Schnupfen, Fieber, Insektenstiche,… so oft gibt es kleine „Notfälle
 “ im Alltag mit Kindern!\n\nMit Hausmitteln kann man viele Beschwerden im F
 amilienalltag lindern und den Kindern liebevoll helfen.\n\nHauptthemen an d
 iesem Vormittag: Erkältungen, Fieber, Bauchweh, kleine Unfälle und viele we
 itere Weh-Wehchen im Familienalltag.\n\nKennenlernen, schmecken und spüren 
 von selbst hergestelltem Hustensaft, Wickel, Aromaölen, Bäder und vieles me
 hr. Alle hergestellten Hausmittel kannst du mit nach Hause nehmen und gleic
 h starten!\n\n*******\nHausmittel werden aus Zutaten hergestellt, die in je
 dem Haushalt zu finden sind. Die Herstellung ist keine Hexerei! Und die Beg
 eisterung der Kinder lässt sich leicht wecken! Wie? Das entdecken wir gemei
 nsam!\n*******\n\n---------------------------------------------------------
 --------------------\n65,- inkl. Material + Rezeptsammlung für zu Hause + T
 ee + Jause // Dauer ca 3-4 Std // Anmeldung erforderlich // Beschränkte Tei
 lnehmerInnenzahl // claudia@kinderhausmittel.com // +43650 500 9131 // www.
 kinderhausmittel.com/ (https://l.facebook.com/l.php?u=http%3A%2F%2Fwww.kind
 erhausmittel.com%2F%3Ffbclid%3DIwAR3JQr4ww7nCqdPrWbwt2B8eGyyU0dgmLeStya-e73
 mGeXQ_59P2EB7-iSU&amp;h=AT1edPZUAyFXN_AzZBCACyOU6AVdA5VFP-SkC3lx4njh_fuBOgC
 lQBRpMKx0KcI88T4yYPK9iAA1bAuj5MeGgMdZYjBgiXv_bNQVRZWLUPvKYCKx5w10x7Pnw9L7BJ
 1f3h8)\n
X-ALT-DESC;FMTTYPE=text/html:<p><strong>Husten, Schnupfen, Fieber, Insektenstiche,… so oft gibt es klein
 e „Notfälle“ im Alltag mit Kindern!</strong><br /><br />Mit Hausmitteln kan
 n man viele Beschwerden im Familienalltag lindern und den Kindern liebevoll
  helfen.<br /><br /><strong>Hauptthemen an diesem Vormittag</strong>: Erkäl
 tungen, Fieber, Bauchweh, kleine Unfälle und viele weitere Weh-Wehchen im F
 amilienalltag.</p><p><br />Kennenlernen, schmecken und spüren von selbst he
 rgestelltem Hustensaft, Wickel, Aromaölen, Bäder und vieles mehr. <strong>A
 lle hergestellten Hausmittel kannst du mit nach Hause nehmen und gleich sta
 rten!</strong><br /><br />*******<br />Hausmittel werden aus Zutaten herges
 tellt, die in jedem Haushalt zu finden sind. Die Herstellung ist keine Hexe
 rei! Und die Begeisterung der Kinder lässt sich leicht wecken! Wie? Das ent
 decken wir gemeinsam!<br />*******<br /><br />-----------------------------
 ------------------------------------------------<br />65,- inkl. Material +
  Rezeptsammlung für zu Hause + Tee + Jause // Dauer ca 3-4 Std // Anmeldung
  erforderlich // Beschränkte TeilnehmerInnenzahl // claudia@kinderhausmitte
 l.com // +43650 500 9131 // <a href="https://l.facebook.com/l.php?u=http%3A
 %2F%2Fwww.kinderhausmittel.com%2F%3Ffbclid%3DIwAR3JQr4ww7nCqdPrWbwt2B8eGyyU
 0dgmLeStya-e73mGeXQ_59P2EB7-iSU&amp;h=AT1edPZUAyFXN_AzZBCACyOU6AVdA5VFP-SkC
 3lx4njh_fuBOgClQBRpMKx0KcI88T4yYPK9iAA1bAuj5MeGgMdZYjBgiXv_bNQVRZWLUPvKYCKx
 5w10x7Pnw9L7BJ1f3h8" target="_blank" rel="nofollow noopener noreferrer" dat
 a-lynx-mode="hover">www.kinderhausmittel.com/</a></p>
CONTACT:www.kinderhausmittel.com
X-EXTRAINFO:[preis='6500'][anmeldung='true']
DTSTAMP:20260425T170251
DTSTART:20190214T080000
DTEND:20190214T113000
SEQUENCE:0
TRANSP:OPAQUE
END:VEVENT
END:VCALENDAR