BEGIN:VCALENDAR
VERSION:2.0
PRODID:-//jEvents 2.0 for Joomla//EN
CALSCALE:GREGORIAN
METHOD:PUBLISH
BEGIN:VEVENT
UID:2985d4ff8ce0223acb7ca0e281713b34
CATEGORIES:15. Bezirk
CREATED:20190122T160751
SUMMARY:Kinder mögen Hausmittel
LOCATION:Kinderatelier Wien\, Neubaugürtel 7\, 1150
DESCRIPTION:Husten, Schnupfen &amp; Co beeinträchtigen das Wohlbefinden sehr! Doch die 
 Erfahrungsmedizin kennt viele lindernde Helfer.\n\nMit Hausmitteln kann man
  viele Beschwerden im Familienalltag lindern und den Kindern liebevoll helf
 en.\n\nKennenlernen, schmecken und spüren von selbst hergestelltem Hustensa
 ft, Wickel, Aromaölen, Bäder und vieles mehr. Wir machen gemeinsam ein Bade
 salz das du zu Hause gleich verwenden kannst!\n\n*******\nHausmittel werden
  aus Zutaten hergestellt, die in jedem Haushalt zu finden sind. Die Herstel
 lung ist keine Hexerei! Und die Begeisterung der Kinder lässt sich leicht w
 ecken! Wie? Das entdecken wir gemeinsam!\n\n*******\n\n--------------------
 ---------------------------------------------------------\nEuro 18,- inkl. 
 Material + Rezeptsammlung für zu Hause + Tee + Jause // Dauer ca 1,5 Std //
  Anmeldung erforderlich // Beschränkte TeilnehmerInnenzahl // claudia@kinde
 rhausmittel.com // +43650 500 9131 // www.kinderhausmittel.com/ (https://l.
 facebook.com/l.php?u=http%3A%2F%2Fwww.kinderhausmittel.com%2F%3Ffbclid%3DIw
 AR3JQr4ww7nCqdPrWbwt2B8eGyyU0dgmLeStya-e73mGeXQ_59P2EB7-iSU&amp;h=AT1edPZUA
 yFXN_AzZBCACyOU6AVdA5VFP-SkC3lx4njh_fuBOgClQBRpMKx0KcI88T4yYPK9iAA1bAuj5MeG
 gMdZYjBgiXv_bNQVRZWLUPvKYCKx5w10x7Pnw9L7BJ1f3h8)\n
X-ALT-DESC;FMTTYPE=text/html:<p><strong>Husten, Schnupfen &amp; Co beeinträchtigen das Wohlbefinden sehr
 ! Doch die Erfahrungsmedizin kennt viele lindernde Helfer.</strong></p><p><
 br />Mit Hausmitteln kann man viele Beschwerden im Familienalltag lindern u
 nd den Kindern liebevoll helfen.</p><p><br />Kennenlernen, schmecken und sp
 üren von selbst hergestelltem Hustensaft, Wickel, Aromaölen, Bäder und viel
 es mehr. <strong>Wir machen gemeinsam ein Badesalz das du zu Hause gleich v
 erwenden kannst!</strong><br /><br />*******<br />Hausmittel werden aus Zut
 aten hergestellt, die in jedem Haushalt zu finden sind. Die Herstellung ist
  keine Hexerei! Und die Begeisterung der Kinder lässt sich leicht wecken! W
 ie? Das entdecken wir gemeinsam!</p><p><br />*******<br /><br />-----------
 ------------------------------------------------------------------<br />Eur
 o 18,- inkl. Material + Rezeptsammlung für zu Hause + Tee + Jause // Dauer 
 ca 1,5 Std // Anmeldung erforderlich // Beschränkte TeilnehmerInnenzahl // 
 claudia@kinderhausmittel.com // +43650 500 9131 // <a href="https://l.faceb
 ook.com/l.php?u=http%3A%2F%2Fwww.kinderhausmittel.com%2F%3Ffbclid%3DIwAR3JQ
 r4ww7nCqdPrWbwt2B8eGyyU0dgmLeStya-e73mGeXQ_59P2EB7-iSU&amp;h=AT1edPZUAyFXN_
 AzZBCACyOU6AVdA5VFP-SkC3lx4njh_fuBOgClQBRpMKx0KcI88T4yYPK9iAA1bAuj5MeGgMdZY
 jBgiXv_bNQVRZWLUPvKYCKx5w10x7Pnw9L7BJ1f3h8" target="_blank" rel="nofollow n
 oopener noreferrer" data-lynx-mode="hover">www.kinderhausmittel.com/</a></p
 >
CONTACT:www.kinderhausmittel.com
X-EXTRAINFO:[preis='1800'][anmeldung='true']
DTSTAMP:20260425T184521
DTSTART:20190124T090000
DTEND:20190214T103000
SEQUENCE:0
TRANSP:OPAQUE
END:VEVENT
END:VCALENDAR