BEGIN:VCALENDAR
VERSION:2.0
PRODID:-//jEvents 2.0 for Joomla//EN
CALSCALE:GREGORIAN
METHOD:PUBLISH
BEGIN:VEVENT
UID:74098e368f4cf4664c3ee442fce229ea
CATEGORIES:6. Bezirk
CREATED:19700101T010000
SUMMARY:KINDER-ATELIER
LOCATION:6.\, Sandwirtgasse 13/12
DESCRIPTION:Biolino Kinder-AtelierFür Kinder von 1,5 bis 3 JahreSpielgruppe mit dem Sch
 werpunkt haptische Sinnesschulung\n- Experimentieren mit Farben, Konsistenz
 en und unterschiedlichsten Materialien\nDie kleinen Künstlerinnen und Künst
 ler können im Biolino Baby-Atelier nach Herzenslust mit selbst hergestellte
 n Bio-Farben matschen und gatschen, ohne dass Mama oder Papa nachher aufräu
 men müssen. Über das ganze Semester verteilt führen wir immer wieder neues 
 Erlebnismaterial in die Gruppe ein.\n \n Klebrig, matschig, bröselig, kratz
 ig: Sand, Erde, Getreidekörner, Holz und viele andere haptische Anregungen 
 warten auf experimentierfreudige Entdecker*innen. Die Kinder können nach He
 rzenslust die Bio-Farben und Materialien mischen und dabei mit allen Sinnen
  erleben, wie sie ihre Eigenschaften verändern.\nTermine im Kinder-Atelier 
 (https://www.biolino.at/spielgruppen/baby-atelier/) Sommersemester 2019Febr
 uar 2019: 13.2., 20.2., 27.2.,\nMärz 2019: 6.3., 13.3., 20.3., 27.3.,\nApri
 l 2019: 3.4., 10.4., 24.4.,\nMai 2019: 8.5., 15.5., 22.5., 29.5.,\nJuni 201
 9: 5.6., 12.6., 19.6., 26.6.,\n \nweitere Infos unter: Kinder-Atelier (http
 s://www.biolino.at/spielgruppen/baby-atelier/)\nwww.biolino.at (http://www.
 biolino.at)\nmartina.novak@biolino.at, (mailto:martina.novak@biolino.at,) 0
 677 628 929 70\nSandwirtgasse 13/12, 1060 Wien\n \nWir freuen unsauf euch! 
 &lt;3\nMartina und das Biolino Team\n
X-ALT-DESC;FMTTYPE=text/html:<h1>Biolino Kinder-Atelier</h1><h2>Für Kinder von 1,5 bis 3 Jahre</h2><p><s
 trong>Spielgruppe mit dem Schwerpunkt haptische Sinnesschulung</strong></p>
 <p>- Experimentieren mit Farben, Konsistenzen und unterschiedlichsten Mater
 ialien</p><p>Die kleinen Künstlerinnen und Künstler können im Biolino Baby-
 Atelier nach Herzenslust mit selbst hergestellten Bio-Farben matschen und g
 atschen, ohne dass Mama oder Papa nachher aufräumen müssen. Über das ganze 
 Semester verteilt führen wir immer wieder neues Erlebnismaterial in die Gru
 ppe ein.<br /> <br /> Klebrig, matschig, bröselig, kratzig: Sand, Erde, Get
 reidekörner, Holz und viele andere haptische Anregungen warten auf experime
 ntierfreudige Entdecker*innen. Die Kinder können nach Herzenslust die Bio-F
 arben und Materialien mischen und dabei mit allen Sinnen erleben, wie sie i
 hre Eigenschaften verändern.</p><h3>Termine im<a title="Kinder-Atelier" hre
 f="https://www.biolino.at/spielgruppen/baby-atelier/"> Kinder-Atelier</a> S
 ommersemester 2019</h3><p><strong>Februar 2019</strong>: 13.2., 20.2., 27.2
 .,</p><p><strong>März 2019</strong><strong>: </strong>6.3., 13.3., 20.3., 2
 7.3.,</p><p><strong>April 2019</strong>: 3.4., 10.4., 24.4.,</p><p><strong>
 Mai 2019</strong>: 8.5., 15.5., 22.5., 29.5.,</p><p><strong>Juni 2019</stro
 ng>: 5.6., 12.6., 19.6., 26.6.,</p><p> </p><p>weitere Infos unter: <a title
 ="Baby-Atelier" href="https://www.biolino.at/spielgruppen/baby-atelier/">Ki
 nder-Atelier</a></p><p><a title="www.biolion.at" href="http://www.biolino.a
 t">www.biolino.at</a></p><p><a href="mailto:martina.novak@biolino.at,">mart
 ina.novak@biolino.at,</a> 0677 628 929 70</p><p>Sandwirtgasse 13/12, 1060 W
 ien</p><p> </p><p>Wir freuen unsauf euch! &lt;3</p><p>Martina und das Bioli
 no Team</p>
CONTACT:martina.novak@biolino.at, 0677 628 929 70
X-EXTRAINFO:[preis='1500'][anmeldung='true']
DTSTAMP:20260423T225313
DTSTART:20190213T150000
DTEND:20190213T160000
SEQUENCE:0
RRULE:FREQ=WEEKLY;UNTIL=20190627T000000Z;INTERVAL=1;BYDAY=WE
EXDATE:20190417T140000,20190501T140000
TRANSP:OPAQUE
END:VEVENT
END:VCALENDAR