BEGIN:VCALENDAR
VERSION:2.0
PRODID:-//jEvents 2.0 for Joomla//EN
CALSCALE:GREGORIAN
METHOD:PUBLISH
BEGIN:VEVENT
UID:388576b1bfa8ef47573f8f780b14dcf9
CATEGORIES:6. Bezirk
CREATED:19700101T010000
SUMMARY:offenes Baby-Cafe (0-3 Jahre)
LOCATION:6.\, Sandwirtgasse 13/12
DESCRIPTION:Biolino Baby- und Familien-CafeBei richtig gutem Fair-Trade-Kaffee und leck
 erem Bio-Kuchen kannst du dich entspannt zurücklehnen, deinem Kind beim Spi
 elen in unseren übersichtlichen, kindersicheren Räumlichkeiten zusehen und 
 mit anderen Mamas und Papas plaudern.\nWir laden dich und dein Kind montags
  und freitags in unser Biolino Baby-Café ein. Bei biologischem Fair-Trade K
 affee, auf Wunsch auch koffeinfrei oder mit Pflanzenmilch, leckerem veganen
  Bio-Kuchen und österreichischen Bio-Fruchtsäften lässt es sich besonders g
 ut plaudern und spielen. Wir achten bei der Auswahl unserer Holzspielsachen
  darauf, dass sie frei von Schadstoffen sind und nutzen Bio-Bambus Geschirr
  von Biobu.\nAuf www.biolino.at/baby-café  (https://www.biolino.at/baby-caf
 e/)findest du aktuellen Termine!\nJeden Montag und Freitag - Außer in den S
 chulferien!\nKeine Anmeldung erforderlich!\nUnkostenbeitrag 5€ pro Familie\
 n \nWir haben Platz für 8 - 10 Kinderwägen. Bei gutem Wetter kannst du auch
  im geschützen Innenhof parken. Wenn es dir möglich ist, komme gerne mit de
 iner Tragehilfe - so haben wir alle mehr Platz zum Wohlfühlen. \nVielen lie
 ben Dank!\n \nWir freuen uns auf deinen Besuch!\nMartina &amp; das Biolino 
 Team\n \n \nP.S: An manchen Vormittagen laden wir Expert*innen zu bestimmte
 n Themen ein: das Baby-Café+ (https://www.biolino.at/baby-cafe/baby-cafe-pl
 us/). Dieses findet in einem extra Raum statt und ist ein zusätzliches Ange
 bot zum Baby-Café.\n
X-ALT-DESC;FMTTYPE=text/html:<h1><strong>Biolino Baby- und Familien-Cafe</strong></h1><p><strong>Bei ric
 htig gutem Fair-Trade-Kaffee und leckerem Bio-Kuchen kannst du dich entspan
 nt zurücklehnen, deinem Kind beim Spielen in unseren übersichtlichen, kinde
 rsicheren Räumlichkeiten zusehen und mit anderen Mamas und Papas plaudern.<
 /strong></p><p>Wir laden dich und dein Kind montags und freitags in unser B
 iolino Baby-Café ein. Bei biologischem Fair-Trade Kaffee, auf Wunsch auch k
 offeinfrei oder mit Pflanzenmilch, leckerem veganen Bio-Kuchen und österrei
 chischen Bio-Fruchtsäften lässt es sich besonders gut plaudern und spielen.
  Wir achten bei der Auswahl unserer Holzspielsachen darauf, dass sie frei v
 on Schadstoffen sind und nutzen Bio-Bambus Geschirr von Biobu.</p><p>Auf <a
  title="Baby-Café" href="https://www.biolino.at/baby-cafe/">www.biolino.at/
 baby-café </a>findest du aktuellen Termine!</p><p>Jeden Montag und Freitag 
 - Außer in den Schulferien!</p><p>Keine Anmeldung erforderlich!</p><p>Unkos
 tenbeitrag 5€ pro Familie</p><p> </p><p>Wir haben Platz für 8 - 10 Kinderwä
 gen. Bei gutem Wetter kannst du auch im geschützen Innenhof parken. Wenn es
  dir möglich ist, komme gerne mit deiner Tragehilfe - so haben wir alle meh
 r Platz zum Wohlfühlen. <br />Vielen lieben Dank!</p><p> </p><p>Wir freuen 
 uns auf deinen Besuch!</p><p>Martina &amp; das Biolino Team</p><p> </p><p> 
 </p><p>P.S: An manchen Vormittagen laden wir Expert*innen zu bestimmten The
 men ein: das <a title="Baby-Cafe+" href="https://www.biolino.at/baby-cafe/b
 aby-cafe-plus/">Baby-Café+</a>. Dieses findet in einem extra Raum statt und
  ist ein zusätzliches Angebot zum Baby-Café.</p>
CONTACT:martina.novak@biolino.at, 0677 628 929 70
X-EXTRAINFO:[preis='500'][anmeldung='false']
DTSTAMP:20260423T225320
DTSTART:20190211T080000
DTEND:20190211T110000
SEQUENCE:0
RRULE:FREQ=WEEKLY;COUNT=9999;INTERVAL=1;BYDAY=MO
EXDATE:20190415T070000,20190422T070000,20190610T070000
TRANSP:OPAQUE
END:VEVENT
END:VCALENDAR