BEGIN:VCALENDAR
VERSION:2.0
PRODID:-//jEvents 2.0 for Joomla//EN
CALSCALE:GREGORIAN
METHOD:PUBLISH
BEGIN:VEVENT
UID:617f7358f7b5c6aee2c78ebe0d24a1de
CATEGORIES:3. Bezirk
CREATED:20190123T100613
SUMMARY:Schwangeren YOGA
DESCRIPTION:Du möchtest SPORT in deiner SCHWANGERSCHAFT machen, weißt aber nicht welche
 n? SANFTE YOGAÜBUNGEN sind genau das Richtige für DICH und dein BABY. Die Ü
 bungen sind ebenfalls eine GUTE GEBURTSVORBEREITUNG.\nYOGA CLASSES IN GERMA
 N AND ENGLISH always\nFriday 11.45-13.00 or 13.15-14.30\nim KREATIVRAUM, Hö
 rnesgasse 18, 1030 Wien\n! GENIESSE kleine Gruppen, small groups !\nmehr In
 fos unter www.derkreativraum.at (http://www.derkreativraum.at) oder julia_y
 oga@posteo.at\n4  Kurseinheiten  18.1., 25.1., 1.2., 8.2.,  für 60,- EURO\n
 Schnupperstunde 14 Euro.\n
X-ALT-DESC;FMTTYPE=text/html:<p>Du möchtest<strong> SPORT</strong> in deiner <strong>SCHWANGERSCHAFT</st
 rong> machen, weißt aber nicht welchen? <strong>SANFTE YOGAÜBUNGEN</strong>
  sind genau das Richtige für<strong> DICH</strong> und dein <strong>BABY</s
 trong>. Die Übungen sind ebenfalls eine <strong>GUTE GEBURTSVORBEREITUNG</s
 trong>.</p><p>YOGA CLASSES IN GERMAN AND ENGLISH always</p><p><strong>Frida
 y 11.45-13.00 or 13.15-14.30</strong></p><p>im KREATIVRAUM,<strong> Hörnesg
 asse 18, 1030 Wien</strong></p><p>! GENIESSE kleine Gruppen, small groups !
 </p><p>mehr Infos unter <a href="http://www.derkreativraum.at">www.derkreat
 ivraum.at</a> oder <strong>julia_yoga@posteo.at</strong></p><p><strong>4  K
 urseinheiten  18.1., 25.1., 1.2., 8.2.,  für 60,- EURO</strong></p><p><stro
 ng>Schnupperstunde 14 Euro.</strong></p>
X-EXTRAINFO:[preis='1400'][anmeldung='true']
DTSTAMP:20260424T144137
DTSTART:20190208T104500
DTEND:20190208T133000
SEQUENCE:0
TRANSP:OPAQUE
END:VEVENT
END:VCALENDAR