BEGIN:VCALENDAR
VERSION:2.0
PRODID:-//jEvents 2.0 for Joomla//EN
CALSCALE:GREGORIAN
METHOD:PUBLISH
BEGIN:VEVENT
UID:bb96e5a448130acbe1ef328d70c71831
CATEGORIES:9. Bezirk
CREATED:19700101T010000
SUMMARY:Familien-Yoga für Groß und Klein (in Drop-In-Classes)
LOCATION:FREIRAUM-Institut\, Liechtensteinstr. 10A\, 1090 Wien (U2 Schottentor)
DESCRIPTION:Familien-Yoga für Klein und Groß (in Drop-In-Classes), da macht die Mama mi
 t der großen Pauline Yoga oder der Papa mit der kleinen Ronja oder die Oma 
 mit beiden Kindern oder der Opa mit dem Max oder...\n \nDrop-In-Classes ohn
 e Anmeldung: 50 Minuten für Dich und Dein Baby, Kleinkind oder Kind! Yoga k
 ann mit Deinem Nachwuchs ganz schön viel Spaß machen und Euch jede Woche ei
 ne feine Abwechslung bieten. Unsere Familien-Yoga-Lehrerinnen Maria Bruckmo
 ser und Regina Karl-Urban freuen sich auf Eure Teilnahme!\n \nSonnentor-Bio
 -Tee wartet vor und nach allen unseren Drop-In-Classes am FREIRAUM-Empfang 
 auf Dich!\n \nStundenplan: Online hier zu finden! (https://www.freiraum-ins
 titut.at/stundenplan/)\nÖffnungszeiten (https://www.freiraum-institut.at/oe
 ffnungszeiten/): 20-30 Minuten vor Beginn einer Drop-In-Class und bis 30 Mi
 nuten nach Ende der Drop-In-Class!\n \nMittagspause im FREIRAUM-Institut: M
 o-Fr von 12:00-13:30 Uhr\nHäufig gestellte Fragen / FAQ: werden hier beantw
 ortet (https://www.freiraum-institut.at/fragen-antworten/)\n \nEinzelne Dro
 p-In-Classes gibt's bei uns um € 17,- inkl. 20% USt.\nEin ermäßigtes 10er-P
 äckchen FREIRAUM-Yoga-Münzen gibt's unter anderem für Mamas in Mutterschutz
  (oder auch für Papas) in Karenz bzw. Babypause um € 145,- inkl. 20% USt.\n
 Beim Familien-Yoga zahlst Du mit einer FREIRAUM-Yoga-Münze die Teilnahme fü
 r Dich und ein Kind, Kleinkind oder Baby. Kommt auch Dein/e Partner/in, Ehe
 frau oder Dein Ehemann mit einem zweiten Baby, Kleinkind oder Kind mit ins 
 Familien-Yoga, legt Ihr beim Check-In am FREIRAUM-Empfang einfach eine zwei
 te FREIRAUM-Yoga-Münze auf den Tisch und hüpft ZU VIERT ins Vergnügen!\n \n
 ...unsere FREIRAUM-Yoga-Münzen sind übrigens zeitlich unlimitiert nutzbar, 
 können weitergeschenkt oder weiterverkauft werden, sind übertragbar und kön
 nen in ALLEN Drop-In-Classes vom FREIRAUM-Institut flexibel genutzt werden:
 \neine FREIRAUM-Yoga-Münze ermöglicht die Teilnahme an einer beliebigen Dro
 p-In-Class. Siehe Preisgestaltung (https://www.freiraum-institut.at/preisge
 staltung/)!\n \nFREIRAUM-Institut, Liechtensteinstraße 10A Ecke Türkenstraß
 e, im Raum 1\nFREIRAUM-Institut, Liechtensteinstraße 10A Ecke Türkenstraße,
  im Raum 2\n \n \nWir bieten nach der Geburt (postnatal), ebenso in Form vo
 n Drop-In-Classes ohne Anmeldung, effektives Rückbildungstraining an:\nMama
 -Baby-Yoga 1 für Babys die noch nicht krabbeln können,\nMama-Baby-Yoga 2 fü
 r Krabbel-Babys bis sie gehen können!\nWeiterführend bieten wir nach dem Ma
 ma-Baby-Yoga die Mama-Kleinkind-Yoga-Kurse mit Anmeldung für Kinder im Alte
 r von 1-3 Jahren.\n \n \n
X-ALT-DESC;FMTTYPE=text/html:<p><b>Familien-Yoga für Klein und Groß (in Drop-In-Classes), da macht die M
 ama mit der großen Pauline Yoga oder der Papa mit der kleinen Ronja oder di
 e Oma mit beiden Kindern oder der Opa mit dem Max oder...</b></p><p> </p><p
 ><b>Drop-In-Classes ohne Anmeldung:</b> 50 Minuten für Dich und Dein Baby, 
 Kleinkind oder Kind! Yoga kann mit Deinem Nachwuchs ganz schön viel Spaß ma
 chen und Euch jede Woche eine feine Abwechslung bieten. Unsere Familien-Yog
 a-Lehrerinnen Maria Bruckmoser und Regina Karl-Urban freuen sich auf Eure T
 eilnahme!</p><p> </p><p><b>Sonnentor</b>-Bio-Tee wartet vor und nach allen 
 unseren Drop-In-Classes am FREIRAUM-Empfang auf Dich!</p><p> </p><p><b>Stun
 denplan:</b> <a href="https://www.freiraum-institut.at/stundenplan/">Online
  hier zu finden!</a></p><p><a href="https://www.freiraum-institut.at/oeffnu
 ngszeiten/">Öffnungszeiten</a>: 20-30 Minuten vor Beginn einer Drop-In-Clas
 s und bis 30 Minuten nach Ende der Drop-In-Class!</p><p> </p><p><b>Mittagsp
 ause</b> im FREIRAUM-Institut: Mo-Fr von 12:00-13:30 Uhr</p><p>Häufig geste
 llte Fragen / FAQ: <a href="https://www.freiraum-institut.at/fragen-antwort
 en/">werden hier beantwortet</a></p><p> </p><p><b>Einzelne Drop-In-Classes<
 /b> gibt's bei uns um € 17,- inkl. 20% USt.</p><p>Ein <b>ermäßigtes 10er-Pä
 ckchen FREIRAUM-Yoga-Münzen</b> gibt's unter anderem für Mamas in Muttersch
 utz (oder auch für Papas) in Karenz bzw. Babypause um € 145,- inkl. 20% USt
 .</p><p><b>Beim Familien-Yoga zahlst Du mit einer FREIRAUM-Yoga-Münze die T
 eilnahme für Dich und ein Kind, Kleinkind oder Baby.</b> Kommt auch Dein/e 
 Partner/in, Ehefrau oder Dein Ehemann mit einem zweiten Baby, Kleinkind ode
 r Kind mit ins Familien-Yoga, legt Ihr beim Check-In am FREIRAUM-Empfang ei
 nfach eine zweite FREIRAUM-Yoga-Münze auf den Tisch und hüpft ZU VIERT ins 
 Vergnügen!</p><p> </p><p>...unsere FREIRAUM-Yoga-Münzen sind übrigens zeitl
 ich unlimitiert nutzbar, können weitergeschenkt oder weiterverkauft werden,
  sind übertragbar und können in ALLEN Drop-In-Classes vom FREIRAUM-Institut
  flexibel genutzt werden:</p><p>eine FREIRAUM-Yoga-Münze ermöglicht die Tei
 lnahme an einer beliebigen Drop-In-Class. <a href="https://www.freiraum-ins
 titut.at/preisgestaltung/">Siehe Preisgestaltung</a>!</p><p> </p><p>FREIRAU
 M-Institut, Liechtensteinstraße 10A Ecke Türkenstraße, im Raum 1</p><p>FREI
 RAUM-Institut, Liechtensteinstraße 10A Ecke Türkenstraße, im Raum 2</p><p> 
 </p><p> </p><p>Wir bieten nach der Geburt (postnatal), ebenso in Form von D
 rop-In-Classes ohne Anmeldung, effektives Rückbildungstraining an:</p><p><b
 >Mama-Baby-Yoga 1</b> für Babys die noch nicht krabbeln können,</p><p><b>Ma
 ma-Baby-Yoga 2</b> für Krabbel-Babys bis sie gehen können!</p><p>Weiterführ
 end bieten wir nach dem Mama-Baby-Yoga die <b>Mama-Kleinkind-Yoga-Kurse</b>
  mit Anmeldung für Kinder im Alter von 1-3 Jahren.</p><p> </p><p> </p>
CONTACT:https://www.freiraum-institut.at/stundenplan/familien-yoga
X-EXTRAINFO:[preis='1700'][anmeldung='false']
DTSTAMP:20260425T120331
DTSTART:20190125T150000
DTEND:20190125T155000
SEQUENCE:0
RRULE:FREQ=WEEKLY;UNTIL=20190629T000000Z;INTERVAL=1;BYDAY=FR
TRANSP:OPAQUE
END:VEVENT
END:VCALENDAR