BEGIN:VCALENDAR
VERSION:2.0
PRODID:-//jEvents 2.0 for Joomla//EN
CALSCALE:GREGORIAN
METHOD:PUBLISH
BEGIN:VEVENT
UID:d3dbe6707cac86e18e83f337e1bea55e
CATEGORIES:3. Bezirk
CREATED:19700101T010000
SUMMARY:Babymassage
LOCATION:kreativraum3\, Hörnesgasse 18
DESCRIPTION:
CONTACT:06643935509
X-EXTRAINFO:[preis='8400'][anmeldung='true']
DTSTAMP:20260424T143630
DTSTART:20190216T093000
DTEND:20190216T102000
SEQUENCE:0
RRULE:FREQ=WEEKLY;UNTIL=20190303T000000Z;INTERVAL=1;BYDAY=SA
TRANSP:OPAQUE
END:VEVENT
END:VCALENDAR