BEGIN:VCALENDAR
VERSION:2.0
PRODID:-//jEvents 2.0 for Joomla//EN
CALSCALE:GREGORIAN
METHOD:PUBLISH
BEGIN:VEVENT
UID:28352a26f99d72e28f36b4fbdea2fcf5
CATEGORIES:23. Bezirk
CREATED:19700101T010000
SUMMARY:KangaBURN - HIIT mit oder ohne Kind
LOCATION:Soziales Zentrum Mauer\, Endresstraße 59C\, 1230 Wien
DESCRIPTION:KangaBURN - MACHT DICH FIT FÜR DEN ALLTAG MIT DEINER FAMILIE\nerstmals auch
  nachmittags - Kinder dürfen gerne mitkommen!\nDeine letzte Geburt liegt ca
 . 1 Jahr oder länger zurück und du möchtest fitter werden denn je?\nDann bi
 st du hier richtig! Probier’s einfach aus! Du wirst es lieben!\n\n\n* mit H
 IIT high intensity interval training nach aktuellstem Stand der Sportwissen
 schaft\n* für jeden Fitnesslevel geeignet\n* mit speziellem funktionellen T
 raining für junge Eltern\n* tankt Power für Deinen Alltag\n* ist Dein effek
 tivstes Training\n* macht VIEL SPASS\n* bringt Myofaszialen Release gegen t
 iefliegende Verspannungen\n* auch Männer sind herzlich willkommen!\n \nLET´
 S KANGABURN 800 KCAL!\n\nAls immer schon sportbegeisterte Mama von 4 wunder
 baren Kindern weiß ich, wie positiv sich effektives Training auf dein Wohlb
 efinden auswirkt!\n\nUnverbindliches Schnuppertraining (um 15,- Euro; GRATI
 S mit Schnuppergutschein Dokumentenmappe Wien) ist jederzeit möglich - meld
 e dich bitte hier an: \nKangatraining Brigitta 1130 &amp; 1230 Wien\n \nFür
  weitere Infos erreichst du mich gerne:\n \nbrigitta@kangatraining.at (mail
 to:brigitta@kangatraining.at)\n \nBrigitta Friedl   0676 7091555\n \nfacebo
 ok: Kangatraining &amp; Trageberatung Brigitta 1130 &amp; 1230 Wien\n\n (ht
 tps://www.facebook.com/Kangatraining.Brigitta/)\n \nIch freue mich darauf, 
 dich kennenzulernen und gemeinsam mit dir trainieren zu können!\nDeine Brig
 itta\n\nps: hier mein aktueller Kursplan:\n\nMontag 10:00 Kangatraining Out
 door Maxingpark/Schönbrunn 1130 Wien \nMontag 18:30 PreKanga Soziales Zentr
 um 1230 Wien-Mauer \nMontag 19:45 KangaBurn Soziales Zentrum 1230 Wien-Maue
 r\n\nDienstag 9:30 Kangatraining Spotlight Dancecenter 1230 Wien-Erlaa \n\n
 \nMittwoch 10:00 Kangatraining St. Josef Krankenhaus 1130 Wien\nMittwoch 14
 :00 Kangatraining Soziales Zentrum 1230 Wien-Mauer\nMittwoch 16:00 Kangabur
 n (mit oder ohne Kind)\n\nDonnerstag 9:00 KangaBurn (mit oder ohne Kind) Pf
 arre Erlöserkirche 1230 Wien-Mauer\nDonnerstag 10:15 Kangatraining Pfarre E
 rlöserkirche 1230 Wien-Mauer\n\nFreitag 9:30 NordicKanga Lainzer Tiergarten
  1130 Wien\n
X-ALT-DESC;FMTTYPE=text/html:<p><strong>KangaBURN - MACHT DICH FIT FÜR DEN ALLTAG MIT DEINER FAMILIE<br 
 />erstmals auch nachmittags - Kinder dürfen gerne mitkommen!</strong></p><p
 >Deine letzte Geburt liegt ca. 1 Jahr oder länger zurück und du möchtest fi
 tter werden denn je?</p><p>Dann bist du hier richtig! Probier’s einfach aus
 ! Du wirst es lieben!<br /><br /></p><p>* mit <strong>HIIT</strong> high in
 tensity interval training nach <strong>aktuellstem Stand der Sportwissensch
 aft</strong></p><p>* für <strong>jeden Fitnesslevel</strong> geeignet</p><p
 >* mit speziellem <strong>funktionellen Training für junge Eltern</strong><
 /p><p>* tankt <strong>Power für Deinen Alltag</strong></p><p>* ist Dein <st
 rong>effektivstes Training</strong></p><p><strong>* macht VIEL SPASS</stron
 g></p><p><strong>* bringt</strong> <strong>Myofaszialen</strong> <strong>Re
 lease</strong> gegen tiefliegende Verspannungen</p><p>* auch <strong>Männer
 </strong> sind herzlich willkommen!</p><p><strong> </strong></p><p><span st
 yle="color: #ff00ff;"><strong>LET´S KANGABURN 800 KCAL!</strong></span></p>
 <p><strong><br />Als immer schon sportbegeisterte Mama von 4 wunderbaren Ki
 ndern weiß ich, wie positiv sich effektives Training auf dein Wohlbefinden 
 auswirkt!</strong></p><p><strong><br />Unverbindliches Schnuppertraining (u
 m 15,- Euro; GRATIS mit Schnuppergutschein Dokumentenmappe Wien) ist jederz
 eit möglich - melde dich bitte hier an: <br /></strong><span style="color: 
 #ff00ff;"><a style="color: #ff00ff;" title="Kangatraining Brigitta 1130 &am
 p; 1230 Wien" href="https://www.kangatraining.info/instructor/BrigittaFried
 l/681" rel="alternate">Kangatraining Brigitta 1130 &amp; 1230 Wien</a></spa
 n></p><p> </p><p><strong>Für weitere Infos erreichst du mich gerne:</strong
 ></p><p> </p><p><strong><a href="mailto:brigitta@kangatraining.at">brigitta
 @kangatraining.at</a></strong></p><p> </p><p><strong>Brigitta Friedl   0676
  7091555</strong></p><p> </p><p><strong>facebook: <a title="Kangatraining &
 amp; Trageberatung Brigitta 1130 &amp; 1230 Wien" href="https://www.faceboo
 k.com/Kangatraining.Brigitta/" rel="alternate">Kangatraining &amp; Trageber
 atung Brigitta 1130 &amp; 1230 Wien</a><a href="https://www.facebook.com/Ka
 ngatraining.Brigitta/"><br /><br /></a></strong></p><p> </p><p><strong>Ich 
 freue mich darauf, dich kennenzulernen und gemeinsam mit dir trainieren zu 
 können!</strong></p><p><strong>Deine Brigitta<br /></strong></p><p>ps: hier
  mein aktueller<strong> Kursplan:</strong><br /><br /><strong><em>Montag</e
 m></strong> 10:00 <strong>Kangatraining</strong> <strong>Outdoor</strong> M
 axingpark/Schönbrunn <strong>1130 Wien </strong><strong><br /><em>Montag</e
 m></strong> 18:30 <strong>PreKanga </strong>Soziales Zentrum <strong>1230 W
 ien-Mauer <br /><em>Montag</em> </strong>19:45 <strong>KangaBurn</strong> S
 oziales Zentrum <strong>1230 Wien-Mauer</strong><strong><br /><br /><em>Die
 nstag</em></strong> 9:30<strong> Kangatraining </strong>Spotlight Dancecent
 er<strong> 1230 Wien-Erlaa <br /><br /></strong></p><p><strong><em>Mittwoch
 </em> </strong>10:00<strong> Kangatraining St. Josef Krankenhaus</strong><s
 trong> 1130 Wien<br /><em>Mittwoch</em> </strong>14:00 <strong>Kangatrainin
 g </strong>Soziales Zentrum <strong>1230 Wien-Mauer<br /></strong><em><stro
 ng>Mittwoch </strong></em>16:00<strong> Kangaburn (mit oder ohne Kind)<br /
 ></strong><strong><br /><em>Donnerstag</em></strong> 9:00<strong> KangaBurn
  (mit oder ohne Kind)</strong> Pfarre Erlöserkirche<strong> 1230 Wien-Mauer
 <br /><em>Donnerstag</em></strong> 10:15<strong> Kangatraining </strong>Pfa
 rre Erlöserkirche<strong> 1230 Wien-Mauer</strong></p><p><strong><br /></st
 rong><strong><em>Freitag</em> </strong>9:30<strong> NordicKanga</strong> La
 inzer Tiergarten<strong> 1130 Wien</strong></p>
CONTACT:https://www.kangatraining.info/at_de/instructor/BrigittaFriedl/booking/681
X-EXTRAINFO:[preis='1500'][anmeldung='true']
DTSTAMP:20260423T094336
DTSTART:20190130T150000
DTEND:20190130T160000
SEQUENCE:0
RRULE:FREQ=WEEKLY;UNTIL=20191219T000000Z;INTERVAL=1;BYDAY=WE
TRANSP:OPAQUE
END:VEVENT
END:VCALENDAR