BEGIN:VCALENDAR
VERSION:2.0
PRODID:-//jEvents 2.0 for Joomla//EN
CALSCALE:GREGORIAN
METHOD:PUBLISH
BEGIN:VEVENT
UID:5c8c302644d7bd4eca40606d158ca489
CATEGORIES:23. Bezirk
CREATED:19700101T010000
SUMMARY:KANGATRAINING in Mauer - du wirst fit & dein Baby kuschelt mit
LOCATION:Pfarre Erlöserkirche\, Endresstraße 57A\, Pfarrsaal Erdgeschoß\, 1230 Wien
DESCRIPTION:Kangatraining® ist genau auf Deine Bedürfnisse als junge Mama und die Deine
 s Babys abgestimmt: Du wirst sicher &amp; effektiv rundum fit und Dein Baby
  kuschelt mit Dir und genießt es, Deine Nähe zu spüren.\nBeim Kangatraining
 ® achte ich als zertifizierte Kangatrainerin besonders darauf, Deinen Becke
 nboden zu schonen und zu stärken. Ein weiterer Fokus liegt auf der korrekte
 n Körperhaltung im Alltag mit Deinem Baby und auf der Festigung Deiner tief
 liegenden Bauchmuskulatur.\nAls Trageberaterin ist es mir besonders wichtig
 , dass alle "Kangababys" beim Kangatraining® gesund getragen werden:\n\n - 
 gut gestützt\n - in "Anhock-Spreiz-Haltung"\n - leicht gerundeten Rücken de
 s Babys\n - vor optischer Reizüberflutung geschützt\n - komfortabel für den
  TrägerWann kannst du starten?\n\nSobald du den postnatalen gynäkologischen
  Check-Up nach der Entbindung erfolgreich bestanden hast (6-8 nach vaginale
 r bzw. 10-12 Wochen nach Kaiserschnitt-Geburt), bist du beim Kangatraining®
  herzlich willkommen!\nUnverbindliches Schnuppertraining um 15,- (kostenlos
  mit Wickelrucksackgutschein) ist jederzeit möglich - melde dich hier an: \
 nAnmeldung Kangatraining Brigitta Friedl 1130 &amp; 1230 Wien\n\nBreitgefäc
 hertes Gratis-Leihtragehilfensortiment vorhanden!\n\n\nps: hier mein aktuel
 ler Kursplan:\n\nMontag 10:00 Kangatraining Outdoor Maxingpark/Schönbrunn 1
 130 Wien \nMontag 18:30 PreKanga Soziales Zentrum 1230 Wien-Mauer \nMontag 
 19:45 KangaBurn Soziales Zentrum 1230 Wien-Mauer\n\nDienstag 9:30 Kangatrai
 ning Spotlight Dancecenter 1230 Wien-Erlaa \n\n\nMittwoch 10:00 Kangatraini
 ng St. Josef Krankenhaus 1130 Wien\nMittwoch 14:00 Kangatraining Soziales Z
 entrum 1230 Wien-Mauer\nMittwoch  16:00 Kangaburn (mit oder ohne Kind)\n\nD
 onnerstag 9:00 KangaBurn (mit oder ohne Kind) Pfarre Erlöserkirche 1230 Wie
 n-Mauer\nDonnerstag 10:15 Kangatraining Pfarre Erlöserkirche 1230 Wien-Maue
 r\n\nFreitag 9:30 NordicKanga Lainzer Tiergarten 1130 Wien\n \nFür weitere 
 Infos erreichst du mich gerne:\nbrigitta@kangatraining.at (mailto:brigitta@
 kangatraining.at)\nBrigitta Friedl   0676 7091555\nfacebook: Kangatraining 
 &amp; Trageberatung Brigitta 1130 &amp; 1230 Wien\n\n (https://www.facebook
 .com/Kangatraining.Brigitta/)\nIch freue mich darauf, dein Baby und dich ke
 nnenzulernen und gemeinsam mit euch trainieren zu können!\nDeine Brigitta\n
X-ALT-DESC;FMTTYPE=text/html:<p><strong>Kangatraining</strong><sup>®</sup> ist genau auf Deine Bedürfnis
 se als junge Mama und die Deines Babys abgestimmt: Du wirst sicher &amp; ef
 fektiv rundum fit und Dein Baby kuschelt mit Dir und genießt es, Deine Nähe
  zu spüren.</p><p>Beim Kangatraining<sup>®</sup> achte ich als zertifiziert
 e Kangatrainerin besonders darauf, Deinen Beckenboden zu schonen und zu stä
 rken. Ein weiterer Fokus liegt auf der korrekten Körperhaltung im Alltag mi
 t Deinem Baby und auf der Festigung Deiner tiefliegenden Bauchmuskulatur.<b
 r />Als <strong>Trageberaterin</strong> ist es mir besonders wichtig, dass 
 alle "Kangababys" beim Kangatraining<sup>®</sup> gesund getragen werden:</p
 ><ul><li>gut gestützt</li><li>in "Anhock-Spreiz-Haltung"</li><li>leicht ger
 undeten Rücken des Babys</li><li>vor optischer Reizüberflutung geschützt</l
 i><li>komfortabel für den Träger</li></ul><p><strong>Wann kannst du starten
 ?</strong><br /><br />Sobald du den postnatalen gynäkologischen Check-Up na
 ch der Entbindung erfolgreich bestanden hast (6-8 nach vaginaler bzw. 10-12
  Wochen nach Kaiserschnitt-Geburt), bist du beim Kangatraining<sup>® </sup>
 herzlich willkommen!</p><p><strong>Unverbindliches Schnuppertraining um 15,
 - (kostenlos mit Wickelrucksackgutschein) ist jederzeit möglich</strong> - 
 melde dich hier an: <br /><a title="Anmeldung Kangatraining Brigitta Friedl
  1130 &amp; 1230 Wien" href="https://www.kangatraining.info/instructor/Brig
 ittaFriedl/681" target="_blank" rel="alternate noopener noreferrer">Anmeldu
 ng Kangatraining Brigitta Friedl 1130 &amp; 1230 Wien</a><br /><br />Breitg
 efächertes <strong>Gratis-Leihtragehilfensortiment vorhanden</strong>!<br /
 ><br /></p><p>ps: hier mein aktueller<strong> Kursplan:</strong><br /><br /
 ><strong><em>Montag</em></strong> 10:00 <strong>Kangatraining</strong> <str
 ong>Outdoor</strong> Maxingpark/Schönbrunn <strong>1130 Wien </strong><stro
 ng><br /><em>Montag</em></strong> 18:30 <strong>PreKanga </strong>Soziales 
 Zentrum <strong>1230 Wien-Mauer <br /><em>Montag</em> </strong>19:45 <stron
 g>KangaBurn</strong> Soziales Zentrum <strong>1230 Wien-Mauer</strong><stro
 ng><br /><br /><em>Dienstag</em></strong> 9:30<strong> Kangatraining </stro
 ng>Spotlight Dancecenter<strong> 1230 Wien-Erlaa <br /><br /></strong></p><
 p><strong><em>Mittwoch</em> </strong>10:00<strong> Kangatraining St. Josef 
 Krankenhaus</strong><strong> 1130 Wien<br /><em>Mittwoch</em> </strong>14:0
 0 <strong>Kangatraining </strong>Soziales Zentrum <strong>1230 Wien-Mauer</
 strong><strong><br /><em>Mittwoch</em> <em> </em></strong>16:00<strong><em>
  Kangaburn (mit oder ohne Kind)</em></strong></p><p><strong><em><br />Donne
 rstag</em></strong> 9:00<strong> KangaBurn (mit oder ohne Kind)</strong> Pf
 arre Erlöserkirche<strong> 1230 Wien-Mauer<br /><em>Donnerstag</em></strong
 > 10:15<strong> Kangatraining </strong>Pfarre Erlöserkirche<strong> 1230 Wi
 en-Mauer</strong></p><p><strong><br /></strong><strong><em>Freitag</em> </s
 trong>9:30<strong> NordicKanga</strong> Lainzer Tiergarten<strong> 1130 Wie
 n</strong></p><p> </p><p><strong>Für weitere Infos erreichst du mich gerne:
 </strong></p><p><strong><a href="mailto:brigitta@kangatraining.at">brigitta
 @kangatraining.at</a></strong></p><p><strong>Brigitta Friedl   0676 7091555
 </strong></p><p><strong>facebook: <a title="Kangatraining &amp; Trageberatu
 ng Brigitta 1130 &amp; 1230 Wien" href="https://www.facebook.com/Kangatrain
 ing.Brigitta/" rel="alternate">Kangatraining &amp; Trageberatung Brigitta 1
 130 &amp; 1230 Wien</a><br /><a href="https://www.facebook.com/Kangatrainin
 g.Brigitta/"><br /></a></strong></p><p><strong>Ich freue mich darauf, dein 
 Baby und dich kennenzulernen und gemeinsam mit euch trainieren zu können!</
 strong></p><p><strong>Deine Brigitta</strong></p>
CONTACT:https://www.kangatraining.info/at_de/instructor/BrigittaFriedl/booking/681
X-EXTRAINFO:[preis='1500'][anmeldung='true']
DTSTAMP:20260423T233933
DTSTART:20190131T091500
DTEND:20190131T103000
SEQUENCE:0
RRULE:FREQ=WEEKLY;UNTIL=20191220T000000Z;INTERVAL=1;BYDAY=TH
TRANSP:OPAQUE
END:VEVENT
END:VCALENDAR