BEGIN:VCALENDAR
VERSION:2.0
PRODID:-//jEvents 2.0 for Joomla//EN
CALSCALE:GREGORIAN
METHOD:PUBLISH
BEGIN:VEVENT
UID:9b735931a98800e4060ff7b6ea242a70
CATEGORIES:6. Bezirk
CREATED:19700101T010000
SUMMARY:Tanzzwerge
LOCATION:LYMA\, Loquaiplatz 12/1\, 1060 Wien
DESCRIPTION:<h2 class="subtitle">KINDERTANZ KURS (1,5-3 JAHRE + ELTERN)</h2><p><br />Di
 e angeborene Verbindung zwischen Bewegung und Musik wird in diesem Kinderta
 nz Kurs in Wien schon bei den Allerkleinsten aufgegriffen und spielerisch g
 efördert. Phantasievoll und voller Überraschungen erleben Kleinkinder das T
 anzen als gemeinsames Spiel, erforschen die verschiedenen Elemente des Tanz
 es und lassen ihrem natürlichen Bewegungstalent zur Musik freien Lauf. Lied
 er, Geschichten, Rhythmik-Materialien und Bewegungsspiele fördern Körper- u
 nd Sinneswahrnehmung, während das Bewegungsrepertoire erweitert und element
 are Tanzbewegungen auf ungezwungene Weise erlernt werden.<br /><br /></p><p
 ></p><p>(c) Nagel Photography/Shutterstock.com</p>
CONTACT:office@lyma.at, 01/9093359, www.lyma.at
X-EXTRAINFO:[preis='21000'][anmeldung='true']
DTSTAMP:20260423T225812
DTSTART:20190213T133000
DTEND:20190213T143000
SEQUENCE:0
RRULE:FREQ=WEEKLY;UNTIL=20190613T000000Z;INTERVAL=1;BYDAY=WE
TRANSP:OPAQUE
END:VEVENT
END:VCALENDAR