BEGIN:VCALENDAR
VERSION:2.0
PRODID:-//jEvents 2.0 for Joomla//EN
CALSCALE:GREGORIAN
METHOD:PUBLISH
BEGIN:VEVENT
UID:e7a61232035acfa581aa69dd179a4858
CATEGORIES:14. Bezirk
CREATED:19700101T010000
SUMMARY:Yoga für Mütter mit dem Baby
LOCATION:VHS Penzing\, Hütteldorfer Straße 112\, 1140 Wien
DESCRIPTION:<p>Dieser Kurs (7x 1,5 UE) bietet Müttern die Möglichkeit, ihre Babys (bis 
 etwa 20 Monate) dabei zu haben und mit einzubeziehen, während sie etwas für
  sich selbst tun. Die einfachen Yoga-Übungen orientieren sich an den Bedürf
 nissen der Teilnehmerinnen. Und natürlich kommt zwischen Üben und Entspanne
 n auch der gegenseitige Austausch nicht zu kurz. Keine Vorkenntnisse notwen
 dig! </p>
CONTACT:penzing@vhs.at
X-EXTRAINFO:[preis='6830'][anmeldung='true']
DTSTAMP:20260423T165940
DTSTART:20190213T090000
DTEND:20190213T103000
SEQUENCE:0
RRULE:FREQ=WEEKLY;UNTIL=20190328T000000Z;INTERVAL=7;BYDAY=WE
TRANSP:OPAQUE
END:VEVENT
END:VCALENDAR