BEGIN:VCALENDAR
VERSION:2.0
PRODID:-//jEvents 2.0 for Joomla//EN
CALSCALE:GREGORIAN
METHOD:PUBLISH
BEGIN:VEVENT
UID:4b93e8b0276332e141c9e9af45b985d7
CATEGORIES:14. Bezirk
CREATED:19700101T010000
SUMMARY:Yoga für Schwangere
LOCATION:VHS Penzing\, Hütteldorfer Straße 112\, 1140 Wien
DESCRIPTION:Dieser Kurs (7x 1 UE) bietet werdenden Müttern die Möglichkeit, sich mit Kö
 rperhaltungen aus dem Hatha Yoga auf die Anforderungen der bevorstehenden G
 eburt einzustimmen. Atemübungen festigen die Beziehung zum Baby, die Verbin
 dung von Bewegung und Atmung löst sanft Verspannungen im Bewegungsapparat u
 nd macht Atemräume spürbar. Die Teilnahme ist nach dem dritten Monat bis zu
 r Geburt möglich.\n
X-ALT-DESC;FMTTYPE=text/html:<p>Dieser Kurs (7x 1 UE) bietet werdenden Müttern die Möglichkeit, sich mit
  Körperhaltungen aus dem Hatha Yoga auf die Anforderungen der bevorstehende
 n Geburt einzustimmen. Atemübungen festigen die Beziehung zum Baby, die Ver
 bindung von Bewegung und Atmung löst sanft Verspannungen im Bewegungsappara
 t und macht Atemräume spürbar. Die Teilnahme ist nach dem dritten Monat bis
  zur Geburt möglich.</p>
CONTACT:penzing@vhs.at
X-EXTRAINFO:[preis='4550'][anmeldung='true']
DTSTAMP:20260423T165635
DTSTART:20190508T070000
DTEND:20190508T080000
SEQUENCE:0
RRULE:FREQ=WEEKLY;COUNT=7;INTERVAL=1;BYDAY=WE
TRANSP:OPAQUE
END:VEVENT
END:VCALENDAR