BEGIN:VCALENDAR
VERSION:2.0
PRODID:-//jEvents 2.0 for Joomla//EN
CALSCALE:GREGORIAN
METHOD:PUBLISH
BEGIN:VEVENT
UID:457da0875868ec1039de8d438cd7d5ad
CATEGORIES:14. Bezirk
CREATED:19700101T010000
SUMMARY:Mother & Baby Workout (bis 12 Monate)
LOCATION:VHS Penzing\, Hütteldorfer Straße 112\, 1140 Wien
DESCRIPTION:Ein Schwangerschafts-Rückbildungskurs der besonderen Art. Die "alte" Figur 
 zurück, aber bitte mit Vorsicht! Nur durch richtig gewählte Übungen können 
 Sie den Beckenboden wieder kräftigen und den gesamten Körper wieder in Form
  bringen. Ein Workout, das garantiert Abwechslung und Spannung verspricht. 
 Babys können zur Stunde mitgebracht werden. Dieser Kurs findet an 15 Donner
 stagen von 12:30 Uhr bis 13:30 Uhr statt.\n
X-ALT-DESC;FMTTYPE=text/html:<p>Ein Schwangerschafts-Rückbildungskurs der besonderen Art. Die "alte" Fig
 ur zurück, aber bitte mit Vorsicht! Nur durch richtig gewählte Übungen könn
 en Sie den Beckenboden wieder kräftigen und den gesamten Körper wieder in F
 orm bringen. Ein Workout, das garantiert Abwechslung und Spannung versprich
 t. Babys können zur Stunde mitgebracht werden. Dieser Kurs findet an 15 Don
 nerstagen von 12:30 Uhr bis 13:30 Uhr statt.</p>
CONTACT:penzing@vhs.at
X-EXTRAINFO:[preis='9750'][anmeldung='true']
DTSTAMP:20260423T155318
DTSTART:20190214T113000
DTEND:20190214T123000
SEQUENCE:0
RRULE:FREQ=WEEKLY;COUNT=15;INTERVAL=1;BYDAY=TH
TRANSP:OPAQUE
END:VEVENT
END:VCALENDAR