BEGIN:VCALENDAR
VERSION:2.0
PRODID:-//jEvents 2.0 for Joomla//EN
CALSCALE:GREGORIAN
METHOD:PUBLISH
BEGIN:VEVENT
UID:f5bb4f6cbe62acadc41a55fe65214260
CATEGORIES:14. Bezirk
CREATED:19700101T010000
SUMMARY:Babymassage (6 Wochen bis 9 Monate)
LOCATION:VHS Penzing\, Hütteldorfer Straße 112\, 1140 Wien
DESCRIPTION:Berührung schafft Nähe, Vertrauen und wohltuende Entspannung, die Eltern-Ki
 nd-Bindung wird gestärkt und unterstützt einen guten Start ins Leben. Babym
 assage fördert die physische, psychische, emotionale und soziale Entwicklun
 g des Babys. In entspannter Atmosphäre erhalten Sie einen Überblick über di
 e geeigneten Massagetechniken (und die zu verwendenden Öle) und erlernen di
 e Babymassage, um Beschwerden wie Koliken, Blähungen, Schlafprobleme u.a. z
 u lindern. Dieser Kurs findet an 4 Donnerstagen von 09:30 Uhr bis 10:30 Uhr
  statt.\n
X-ALT-DESC;FMTTYPE=text/html:<p>Berührung schafft Nähe, Vertrauen und wohltuende Entspannung, die Eltern
 -Kind-Bindung wird gestärkt und unterstützt einen guten Start ins Leben. Ba
 bymassage fördert die physische, psychische, emotionale und soziale Entwick
 lung des Babys. In entspannter Atmosphäre erhalten Sie einen Überblick über
  die geeigneten Massagetechniken (und die zu verwendenden Öle) und erlernen
  die Babymassage, um Beschwerden wie Koliken, Blähungen, Schlafprobleme u.a
 . zu lindern. Dieser Kurs findet an 4 Donnerstagen von 09:30 Uhr bis 10:30 
 Uhr statt.</p>
CONTACT:penzing@vhs.at
X-EXTRAINFO:[preis='2600'][anmeldung='true']
DTSTAMP:20260423T185942
DTSTART:20190321T083000
DTEND:20190321T093000
SEQUENCE:0
RRULE:FREQ=WEEKLY;COUNT=4;INTERVAL=1;BYDAY=TH
TRANSP:OPAQUE
END:VEVENT
END:VCALENDAR