BEGIN:VCALENDAR
VERSION:2.0
PRODID:-//jEvents 2.0 for Joomla//EN
CALSCALE:GREGORIAN
METHOD:PUBLISH
BEGIN:VEVENT
UID:1053989c3e16fa12d7ea9e52197331de
CATEGORIES:14. Bezirk
CREATED:19700101T010000
SUMMARY:Babyturnen (6-12 Monate)
LOCATION:VHS Penzing\, Hütteldorfer Straße 112\, 1140 Wien
DESCRIPTION:<p>Gesunde Kinder bewegen sich gern. Ziel des Babyturnens ist es, die Babys
  mit einfachen, spielerischen Übungen in ihrer Bewegungsentwicklung zu förd
 ern. Gleichzeitig werden die Sinne geschärft und die Körperwahrnehmung posi
 tiv beeinflusst. Vor allem aber sollen Kinder und Eltern Spaß an der gemein
 samen Bewegung haben. Dieser Kurs findet 15x immer mittwochs von 09 Uhr bis
  10:00 Uhr statt.</p>
CONTACT:penzing@vhs.at
X-EXTRAINFO:[preis='8700'][anmeldung='true']
DTSTAMP:20260423T170031
DTSTART:20190213T080000
DTEND:20190213T090000
SEQUENCE:0
RRULE:FREQ=WEEKLY;COUNT=15;INTERVAL=1;BYDAY=WE
TRANSP:OPAQUE
END:VEVENT
END:VCALENDAR