BEGIN:VCALENDAR
VERSION:2.0
PRODID:-//jEvents 2.0 for Joomla//EN
CALSCALE:GREGORIAN
METHOD:PUBLISH
BEGIN:VEVENT
UID:0a02e08dc4d456c2f043eb8daf8aac9d
CATEGORIES:14. Bezirk
CREATED:19700101T010000
SUMMARY:Aquafitness für Schwangere
LOCATION:Holmes Place\, Hütteldorfer Straße 130A\, 1140 Wien
DESCRIPTION:<p>Diese besonders schonende Bewegungsform für Schwangere wird im brusthohe
 n Wasser ausgeführt und hält Beweglichkeit sowie Leistungsfähigkeit aufrech
 t. Der hydrostatische Druck des Wassers verstärkt den positiven Trainingsef
 fekt und wirkt sich günstig auf die Blutgefäße aus. Die Massagewirkung regt
  die Durchblutung von Muskeln, Haut und Bindegewebe an und strafft das Gewe
 be. Dieser Kurs findet 7x immer freitags von 12:00 bis 13:00 Uhr im Holmes 
 Place im 14. Bezirk statt.</p><p><strong>Wassertemperatur 28 Grad</strong><
 /p>
CONTACT:penzing@vhs.at
X-EXTRAINFO:[preis='4550'][anmeldung='true']
DTSTAMP:20260423T170011
DTSTART:20190215T110000
DTEND:20190215T120000
SEQUENCE:0
RRULE:FREQ=WEEKLY;COUNT=7;INTERVAL=1;BYDAY=FR
TRANSP:OPAQUE
END:VEVENT
END:VCALENDAR