BEGIN:VCALENDAR
VERSION:2.0
PRODID:-//jEvents 2.0 for Joomla//EN
CALSCALE:GREGORIAN
METHOD:PUBLISH
BEGIN:VEVENT
UID:bcc3bdd674bbecb9dd66e67f14aeff6a
CATEGORIES:18. Bezirk
CREATED:20190204T122230
SUMMARY:Was braucht mein Kind, um stark zu sein?
LOCATION:SPIELRINGEL Mollgasse 11-13
DESCRIPTION:ElternBESTzeitmit Familientrainerin Claudia U. (http://schwangerschaft-elte
 rnschaft.at/das-team/claudia-u/)\nWas braucht mein Kind, um stark zu sein?\
 nWas ist STARK? Selbstbewusst, selbstständig, verantwortungsbewusst – ein K
 ind, das in sich ruht, weiß was es will, nach Jesper Juul ein Kind, dass ei
 n hohes Selbstwertgefühl hat und innere Verantwortlichkeit besitzt. \nWie k
 önnen wir unserem Kind DAS geben? Darauf gibt dieser Vortrag Antwort.\nInfo
  &amp; Anmeldung:\nClaudia@familientrainerin.com (mailto:Claudia@familientr
 ainerin.com)\n
X-ALT-DESC;FMTTYPE=text/html:<div class="gmail_default"><header><h2 class="element-header ">ElternBESTze
 it</h2></header><p>mit Familientrainerin <a href="http://schwangerschaft-el
 ternschaft.at/das-team/claudia-u/">Claudia U.</a></p><p>Was braucht mein Ki
 nd, um stark zu sein?</p><p>Was ist STARK? Selbstbewusst, selbstständig, ve
 rantwortungsbewusst – ein Kind, das in sich ruht, weiß was es will, nach Je
 sper Juul ein Kind, dass ein hohes Selbstwertgefühl hat und innere Verantwo
 rtlichkeit besitzt. </p><p>Wie können wir unserem Kind DAS geben? Darauf gi
 bt dieser Vortrag Antwort.</p><p><span class="text-primary">Info &amp; Anme
 ldung:</span></p><p><a href="mailto:Claudia@familientrainerin.com">Claudia@
 familientrainerin.com</a></p></div>
CONTACT:http://schwangerschaft-elternschaft.at/angebote/vortraege-workshops/elternbestzeit/ (http://schwangerschaft-elternschaft.at/angebote/vortraege-workshops/elternbestzeit/)
X-EXTRAINFO:[preis='2500'][anmeldung='true']
DTSTAMP:20260425T202514
DTSTART:20190218T183000
DTEND:20190218T200000
SEQUENCE:0
TRANSP:OPAQUE
END:VEVENT
END:VCALENDAR