BEGIN:VCALENDAR
VERSION:2.0
PRODID:-//jEvents 2.0 for Joomla//EN
CALSCALE:GREGORIAN
METHOD:PUBLISH
BEGIN:VEVENT
UID:d1ec4767f8b345a854eb2f003f8ac2f3
CATEGORIES:16. Bezirk
CREATED:20190204T154040
SUMMARY:Babymassage
LOCATION:LaLeLand\, Thaliastraße 134/36\, 1160 Wien
DESCRIPTION: \nBabymassage stärkt: \n* die Eltern Kind Beziehung\n* das Immunsystem\n* 
 das Körpergefühl\n* den Stoffwechsel\n* und lindert Schmerzen und Beschwerd
 en\nGemeinsam erlernen wir ganz einfache Griffe und Techniken um gewünschte
  Wirkungen zu erzielen. Dabei behandeln wir unter anderem Themen wie Erkält
 ung, Bauchweh, Entspannung und Schlaf. Vor allem aber soll es möglich sein,
  in einem gemütlichen und geschützten Rahmen Fragen zu stellen, sich auszut
 auschen und miteinander über den achtsamen Umgang mit einem Baby zu lernen.
  Denn die Babymassage ist keine festgelegte Methode, sondern ein Sprechen u
 nd Zuhören mit den Händen. In diesem Kurs erhalten Sie Tipps und Hinweise w
 ie so ein Dialog mit Händen gut funktionieren kann, sich ihre Beziehung zu 
 ihrem Kind festigt und sich damit das wunderbare Wirkungsspektrum der Babym
 assage voll entfaltet.\n \nFür wen:\nBaby plus Mama und/oder Papa\nAb wann:
                      \nNach Abheilung der Nabelschnur bis zum Krabbelalter\
 n\n\n\nKurstermine:            16.2.2019  / 2.3.2019 / 9.3.2019 / 16.3.2019
 \n \nKurszeit:                 Samstags 10:00 - 11:00 Uhr\n                
                4 Kurseinheiten à 60 Minuten (davon ca. 40 Minuten          
                        Massage)\n \nAnmeldung und weitere Infos:\n0699-1107
 2349\nschmidltheresa@gmail.com\nwww.facebook.com/hebammetheresaschmidl\n
X-ALT-DESC;FMTTYPE=text/html:<p> </p><p><span style="font-weight: 400;">Babymassage stärkt: </span></p><
 p><span style="font-weight: 400;">* die Eltern Kind Beziehung</span></p><p>
 <span style="font-weight: 400;">* das Immunsystem</span></p><p><span style=
 "font-weight: 400;">* das Körpergefühl</span></p><p><span style="font-weigh
 t: 400;">* den Stoffwechsel</span></p><p><span style="font-weight: 400;">* 
 und lindert Schmerzen und Beschwerden</span></p><p><span style="font-weight
 : 400;">Gemeinsam erlernen wir ganz einfache Griffe und Techniken um gewüns
 chte Wirkungen zu erzielen. Dabei behandeln wir unter anderem Themen wie Er
 kältung, Bauchweh, Entspannung und Schlaf. Vor allem aber soll es möglich s
 ein, in einem gemütlichen und geschützten Rahmen Fragen zu stellen, sich au
 szutauschen und miteinander über den achtsamen Umgang mit einem Baby zu ler
 nen. Denn die Babymassage ist keine festgelegte Methode, sondern ein Sprech
 en und Zuhören mit den Händen. In diesem Kurs erhalten Sie Tipps und Hinwei
 se wie so ein Dialog mit Händen gut funktionieren kann, sich ihre Beziehung
  zu ihrem Kind festigt und sich damit das wunderbare Wirkungsspektrum der B
 abymassage voll entfaltet.</span></p><p> </p><p><span style="font-weight: 4
 00;">Für wen:</span></p><p><span style="font-weight: 400;">Baby plus Mama u
 nd/oder Papa</span></p><p>Ab wann:                     </p><p><span style="
 font-weight: 400;">Nach Abheilung der Nabelschnur bis zum Krabbelalter</spa
 n></p><p><br /><br /></p><p><b>Kurstermine:</b> <b>          </b> <span sty
 le="font-weight: 400;">16.2.2019  / 2.3.2019 / 9.3.2019 / 16.3.2019</span><
 /p><p> </p><p><b>Kurszeit:     </b>            <span style="font-weight: 40
 0;">Samstags 10:00 - 11:00 Uhr</span></p><p>                               
 <span style="font-weight: 400;">4 Kurseinheiten à 60 Minuten (davon ca. 40 
 Minuten                                 Massage)</span></p><p><b> </b></p><
 p><span style="font-weight: 400;">Anmeldung und weitere Infos:</span></p><p
 ><span style="font-weight: 400;">0699-11072349</span></p><p><span style="fo
 nt-weight: 400;">schmidltheresa@gmail.com</span></p><p><span style="font-we
 ight: 400;">www.facebook.com/hebammetheresaschmidl</span></p>
CONTACT:schmidltheresa@gmail.com, 0699-11072349
X-EXTRAINFO:[preis='7500'][anmeldung='true']
DTSTAMP:20260425T134329
DTSTART:20190216T090000
DTEND:20190216T100000
SEQUENCE:0
TRANSP:OPAQUE
END:VEVENT
END:VCALENDAR