BEGIN:VCALENDAR
VERSION:2.0
PRODID:-//jEvents 2.0 for Joomla//EN
CALSCALE:GREGORIAN
METHOD:PUBLISH
BEGIN:VEVENT
UID:2cf826eb0744d2e1032ebf425ffa3460
CATEGORIES:4. Bezirk
CREATED:20190204T223803
SUMMARY:Schwangerschaft und Mutterschaft - praktische und Rechtsfragen
LOCATION:Rienößlgasse 3/4\, 1040 Wien
DESCRIPTION:<p><strong>Zielpersonen</strong>: Schwangere, werdende und junge Mütter, Fr
 auen, die eine Schwangerschaft planen und auch für alle jetzigen oder zukün
 ftigen Väter, die sich notwendige und wichtige Informationen bezüglicher di
 eser wunderbaren Periode des Lebens holen wollen.<br />Seminarziele: die Zi
 elpersonen über die praktischen und die rechtlichen Aspekte der Schwangersc
 haft und Mutterschaft aufzuklären und das Verwaltungsverfahren nach der Geb
 urt zu erleichtern, damit die neue Familie sich nur auf das Wichtigste konz
 entrieren kann.</p><p><strong>Folgende Themen werden diskutiert:</strong><b
 r /><br />- Krankenversicherung und Ausgaben während der Schwangerschaft<br
  />- obligatorische Untersuchungen während der Schwangerschaft und rechtlic
 he Konsequenzen, die mit den Untersuchungen verbunden sind<br />- Krankenha
 us-, Hebammen- und Arztwahl<br />- Ausstellung der Geburtsurkunde, Vatersch
 aftsanerkennung, Obsorge<br />- Karenz und Kinderbetreuung, Elternteilzeit 
 und andere arbeitsrechtliche Fragen<br />- Familienbeihilfe, Kinderbetreuun
 gsgeld, Familienbonus+<br />- Kindergarten und andere Betreuungsmöglichkeit
 en<br /><br />Anmeldung: projects@austria4beginners.at<br />Gebühr: 35,00 E
 UR<br /><br />Weitere Informationen können Sie unter <a href="https://l.fac
 ebook.com/l.php?u=http%3A%2F%2Fwww.austria4beginners.at%2F%3Fpage_id%3D149%
 26fbclid%3DIwAR2FyX7a8t9r3PlVG7AlO-ul6JzXP8mg0pHarf4-C3As7o1NGgV5j-jwQX4&am
 p;h=AT2K9U9CqNFhRvko6S7qx888tUiSr48VBk_oe9Ddm4hLrO0_8YWmSG2aCaYLit8394SeQMV
 Ope62kGXW21lG_WugNX5XE0rgveU5wbKy6bpNKeTQc99jkbCZL7uMgj9HPA" target="_blank
 " rel="nofollow noopener noreferrer" data-lynx-mode="hover">http://www.aust
 ria4beginners.at/?page_id=149</a> finden.</p>
CONTACT:projects@austria4beginners.at /  Mag. Severina Goranova
X-EXTRAINFO:[preis='3500'][anmeldung='true']
DTSTAMP:20260424T125418
DTSTART:20190204T090000
DTEND:20190204T130000
SEQUENCE:0
TRANSP:OPAQUE
END:VEVENT
END:VCALENDAR