BEGIN:VCALENDAR
VERSION:2.0
PRODID:-//jEvents 2.0 for Joomla//EN
CALSCALE:GREGORIAN
METHOD:PUBLISH
BEGIN:VEVENT
UID:6486331145f95e0a3d805bdebfc686fb
CATEGORIES:21. Bezirk
CREATED:20190205T121505
SUMMARY:Eltern Kind Cafe im Littlesuns
LOCATION:littlesuns\, Donaufelderstrasse 102/2
DESCRIPTION:Eltern-Kind-Kaffee\nwww.littlesuns.at (http://www.littlesuns.at)\n
X-ALT-DESC;FMTTYPE=text/html:<p>Eltern-Kind-Kaffee</p><p><a href="http://www.littlesuns.at">www.littlesu
 ns.at</a></p>
CONTACT:www.littlesuns.at/06645274715/info@littlesuns.at
X-EXTRAINFO:[preis='700'][anmeldung='false']
DTSTAMP:20260423T171523
DTSTART:20190208T140000
DTEND:20190208T160000
SEQUENCE:0
TRANSP:OPAQUE
END:VEVENT
END:VCALENDAR