BEGIN:VCALENDAR
VERSION:2.0
PRODID:-//jEvents 2.0 for Joomla//EN
CALSCALE:GREGORIAN
METHOD:PUBLISH
BEGIN:VEVENT
UID:4d97e2e2e64c90e044adb1162932e56b
CATEGORIES:21. Bezirk
CREATED:20190205T122113
SUMMARY:Schwangeren Yoga
LOCATION:littlesuns\, Donaufelderstrasse 102/2
DESCRIPTION:www.littleusns.at (http://www.littleusns.at)\n
X-ALT-DESC;FMTTYPE=text/html:<p><a href="http://www.littleusns.at">www.littleusns.at</a></p>
CONTACT:www.littlesuns.at/06645274715/info@littlesuns.at
X-EXTRAINFO:[preis='1500'][anmeldung='true']
DTSTAMP:20260423T141546
DTSTART:20190212T164000
DTEND:20190212T173000
SEQUENCE:0
TRANSP:OPAQUE
END:VEVENT
END:VCALENDAR