BEGIN:VCALENDAR
VERSION:2.0
PRODID:-//jEvents 2.0 for Joomla//EN
CALSCALE:GREGORIAN
METHOD:PUBLISH
BEGIN:VEVENT
UID:db9a0bf2092e000cb6b0bc517e8589f4
CATEGORIES:21. Bezirk
CREATED:19700101T010000
SUMMARY:Babygruppe(im Littlesuns)
LOCATION:littlesuns\, Donaufelderstrasse 102/2
DESCRIPTION:www.littlesuns.at (http://www.littlesuns.at)\n
X-ALT-DESC;FMTTYPE=text/html:<p><a href="http://www.littlesuns.at">www.littlesuns.at</a></p>
CONTACT:www.littlesuns.at/06645274715/info@littlesuns.at
X-EXTRAINFO:[preis='000'][anmeldung='true']
DTSTAMP:20260423T141633
DTSTART:20190215T080000
DTEND:20190215T093000
SEQUENCE:0
RRULE:FREQ=WEEKLY;COUNT=15;INTERVAL=1;BYDAY=FR
TRANSP:OPAQUE
END:VEVENT
END:VCALENDAR