BEGIN:VCALENDAR
VERSION:2.0
PRODID:-//jEvents 2.0 for Joomla//EN
CALSCALE:GREGORIAN
METHOD:PUBLISH
BEGIN:VEVENT
UID:3ea3c3679b4c19784abee470afdd9e81
CATEGORIES:21. Bezirk
CREATED:19700101T010000
SUMMARY:Spielgruppe 1,5-3 Jahre(im littlesuns)
LOCATION:littlesuns\, Donaufelderstrasse 102/2
DESCRIPTION:www.littlesuns.at (http://www.littlesuns.at)\n
X-ALT-DESC;FMTTYPE=text/html:<p><a href="http://www.littlesuns.at">www.littlesuns.at</a></p>
CONTACT:www.littlesuns.at/06645274715/info@littlesuns.at
X-EXTRAINFO:[preis='000'][anmeldung='true']
DTSTAMP:20260423T200729
DTSTART:20190213T080000
DTEND:20190213T093000
SEQUENCE:0
RRULE:FREQ=WEEKLY;COUNT=15;INTERVAL=1;BYDAY=WE
TRANSP:OPAQUE
END:VEVENT
END:VCALENDAR